BEGIN:VCALENDAR
VERSION:2.0
PRODID:-//Ateneo Mercantil de Valencia - ECPv6.0.4//NONSGML v1.0//EN
CALSCALE:GREGORIAN
METHOD:PUBLISH
X-WR-CALNAME:Ateneo Mercantil de Valencia
X-ORIGINAL-URL:https://historico.ateneovalencia.es
X-WR-CALDESC:Eventos para Ateneo Mercantil de Valencia
REFRESH-INTERVAL;VALUE=DURATION:PT1H
X-Robots-Tag:noindex
X-PUBLISHED-TTL:PT1H
BEGIN:VTIMEZONE
TZID:Europe/Madrid
BEGIN:DAYLIGHT
TZOFFSETFROM:+0100
TZOFFSETTO:+0200
TZNAME:CEST
DTSTART:20230326T010000
END:DAYLIGHT
BEGIN:STANDARD
TZOFFSETFROM:+0200
TZOFFSETTO:+0100
TZNAME:CET
DTSTART:20231029T010000
END:STANDARD
END:VTIMEZONE
BEGIN:VEVENT
DTSTART;TZID=Europe/Madrid:20230329T190000
DTEND;TZID=Europe/Madrid:20230329T203000
DTSTAMP:20260423T201329
CREATED:20230322T121612Z
LAST-MODIFIED:20230322T121615Z
UID:73516-1680116400-1680121800@historico.ateneovalencia.es
SUMMARY:La producción musical de Serrano: Tradición y Moda
DESCRIPTION:En el 150 Aniversario del nacimiento del Maestro Serrano\, el Ateneo Mercantil de Valencia\, rinde un sentido homenaje a una figura clave en la 'banda sonora' de los españoles de las dos primeras décadas del XX. Serrano fue el melodista del pueblo\, el compositor de las zarzuelas más populares y el encargado de crear la música más representativa para todos los ciudadanos de la Comunitat Valenciana. Él creó en menos de 25 años tres himnos que hoy son de un enorme arraigo en el pueblo valenciano: el Himno Regional (Himno de la Exposición de 1909)\, el himno de la Coronación de la Virgen de los Desamparados y el himno fallero por excelencia\, 'El Fallero'. \n‘La dolorosa’\, ‘Los claveles’\, ‘Las hilanderas’\, ‘La canción del olvido’\, ‘La reina mora’\, ‘Golondrinas de Madrid’… la lista de zarzuelas que compuso este valenciano es interminable. Consagró su vida al género chico. Su vida fue tranquila. Era un hombre generoso\, afable y muy carismático. \nTítulo: "La producción musical de Serrano: Tradición y Moda" \nPonente: Prof. Dr. Ramón Ahulló Hermano (Doctor en Musicología y Profesor asociado de la Universitat de València) \nDía: Miércoles 29 de marzo de 2023 \nHora: 19 horas \nSalón: Salón Sorolla \nEntrada libre y gratuita hasta completar aforo \nCartel:
URL:https://historico.ateneovalencia.es/evento/la-produccion-musical-de-serrano-tradicion-y-moda/
LOCATION:Salón Sorolla - Ateneo Mercantil de Valencia\, Plaza del Ayuntamiento 18\, Valencia\, Valencia\, 46002\, España
CATEGORIES:Ciclo de Conferencias
ATTACH;FMTTYPE=image/jpeg:https://historico.ateneovalencia.es/wp-content/uploads/2023/03/20230329-Maestro-Serrano.jpg
END:VEVENT
END:VCALENDAR