BEGIN:VCALENDAR
VERSION:2.0
PRODID:-//Ateneo Mercantil de Valencia - ECPv6.0.4//NONSGML v1.0//EN
CALSCALE:GREGORIAN
METHOD:PUBLISH
X-ORIGINAL-URL:https://historico.ateneovalencia.es
X-WR-CALDESC:Eventos para Ateneo Mercantil de Valencia
REFRESH-INTERVAL;VALUE=DURATION:PT1H
X-Robots-Tag:noindex
X-PUBLISHED-TTL:PT1H
BEGIN:VTIMEZONE
TZID:Europe/Madrid
BEGIN:DAYLIGHT
TZOFFSETFROM:+0100
TZOFFSETTO:+0200
TZNAME:CEST
DTSTART:20230326T010000
END:DAYLIGHT
BEGIN:STANDARD
TZOFFSETFROM:+0200
TZOFFSETTO:+0100
TZNAME:CET
DTSTART:20231029T010000
END:STANDARD
END:VTIMEZONE
BEGIN:VEVENT
DTSTART;TZID=Europe/Madrid:20230328T190000
DTEND;TZID=Europe/Madrid:20230328T203000
DTSTAMP:20260423T214008
CREATED:20230322T102606Z
LAST-MODIFIED:20230322T102608Z
UID:73507-1680030000-1680035400@historico.ateneovalencia.es
SUMMARY:Visita virtual al Museo Mariano de la Basílica de la Virgen (MUMA)
DESCRIPTION:La Fundación del Ateneo Mercantil de la CV ha programado una nueva conferencia que se engloba en el Ciclo del Centenario de la Coronación de la Virgen de los Desamparados para este martes 28 de marzo a las 19 horas en el Salón de Actos del Ateneo Mercantil de Valencia. Llega bajo el título: "Visita virtual al Museo Mariano de la Basílica de la Virgen (MUMA)" y la ponente será la la propia directora del Museo Mariano de la Basílica de Ntra. Sra. de los Desamparados - MUMA\, Dña. María Ángeles Gil. \nLa Real Basílica de la Virgen de los Desamparados alberga en su propio edificio el museo dedicado a la Patrona de Valencia. Esta ubicado en la zona superior de las tribunas abierta al óvalo del templo y\, a su vez\, comunicada con la Catedral por el llamado arco Novo que sirve de tránsito. \nEn este monumental circo el museo presenta una importante colección artística que incorpora la arquitectura como un elemento más del planteamiento museográfico. Su objetivo es dar a conocer al visitante el legado cultural y religioso reunido durante generaciones. Legado que nos muestra cómo desde los orígenes la Virgen de los Desamparados\, su Cofradía y su Capilla han mantenido una estrecha vinculación con la sociedad valenciana. \nTítulo: "Visita virtual al Museo Mariano de la Basílica de la Virgen (MUMA)" \nPonente: Dña. María Ángeles Gil \nDía: Martes 28 de marzo de 2023 \nHora: 19 horas \nSalón: Salón de Actos \nEntrada libre y gratuita hasta completar aforo \nCartel:
URL:https://historico.ateneovalencia.es/evento/visita-virtual-al-museo-mariano-de-la-basilica-de-la-virgen-muma/
LOCATION:Teatro Ateneo
CATEGORIES:Ciclo Centenario de la Coronación de la Virgen de los Desamparados
ATTACH;FMTTYPE=image/jpeg:https://historico.ateneovalencia.es/wp-content/uploads/2023/03/20230328-Coronacion-Virgen-MUMA.jpg
END:VEVENT
END:VCALENDAR