BEGIN:VCALENDAR
VERSION:2.0
PRODID:-//Ateneo Mercantil de Valencia - ECPv6.0.4//NONSGML v1.0//EN
CALSCALE:GREGORIAN
METHOD:PUBLISH
X-WR-CALNAME:Ateneo Mercantil de Valencia
X-ORIGINAL-URL:https://historico.ateneovalencia.es
X-WR-CALDESC:Eventos para Ateneo Mercantil de Valencia
REFRESH-INTERVAL;VALUE=DURATION:PT1H
X-Robots-Tag:noindex
X-PUBLISHED-TTL:PT1H
BEGIN:VTIMEZONE
TZID:Europe/Madrid
BEGIN:DAYLIGHT
TZOFFSETFROM:+0100
TZOFFSETTO:+0200
TZNAME:CEST
DTSTART:20230326T010000
END:DAYLIGHT
BEGIN:STANDARD
TZOFFSETFROM:+0200
TZOFFSETTO:+0100
TZNAME:CET
DTSTART:20231029T010000
END:STANDARD
END:VTIMEZONE
BEGIN:VEVENT
DTSTART;TZID=Europe/Madrid:20230320T190000
DTEND;TZID=Europe/Madrid:20230320T203000
DTSTAMP:20260424T005316
CREATED:20230224T085914Z
LAST-MODIFIED:20230227T105116Z
UID:73174-1679338800-1679344200@historico.ateneovalencia.es
SUMMARY:"El Santo Cáliz de la Catedral de Valencia. Hipótesis de su llegada a la Corona de Aragón desde Egipto"
DESCRIPTION:En las investigaciones sobre la reliquia del Santo Cáliz de la Catedral de Valencia se afirma que la copa se encontraba en la Península Ibérica desde muchos siglos antes de su inventario en el Monasterio de San Juan de la Peña en 1399. Esta teoría se fundamenta en la tradición de un itinerario de la reliquia que partía de Jerusalén\, pasaba por Roma y llegaba a Huesca en el siglo III. \nEnlace para el Online: https://youtu.be/R2di88p2P4I\nEn dicha narración el cáliz era traído por san Lorenzo\, permaneciendo oculto por más de mil años. Sin embargo\, la posibilidad de que llegara a la Corona de Aragón desde Egipto por petición de Jaime II\, entre los años 1322 y 1327\, resulta más plausible tanto por documentos a los que no se había prestado la suficiente atención\, como por nuevas aportaciones aparecidas en los últimos años y la investigación llevada a cabo por Catalina Martín Lloris. \nTítulo: "El Santo Cáliz de la Catedral de Valencia. Hipótesis de su llegada a la Corona de Aragón desde Egipto" \nConferenciante: Prof. Dra. Catalina Martín Lloris \nDía: Lunes 20 de marzo de 2023 \nHora: 19 horas \nLugar: Salón de Actos \nEntrada libre hasta completar aforo. \nCurriculum de Catalina Martín Lloris\nDoctora en Historia del Arte por la Universidad de Valencia. Profesora desde 2013 en los Grados de Multimedia y Artes Digitales y de Diseño y Narración de Animación y Videojuegos de la Universidad Católica de Valencia. Responsable académico de los alumnos de primer curso y responsable del área de Extensión Cultural de la Universidad Católica de Valencia durante el curso 2018-2019. \nEn 2005 defendió su tesis doctoral sobre la documentación del Santo Cáliz de la Catedral de Valencia y desde entonces su investigación ha estado vinculada al estudio y difusión del conocimiento de la reliquia tanto en artículos académicos como en documentales de prestigio nacional e internacional\, así como exposiciones y congresos. \nDesde los inicios de su carrera académica sus intereses han estado dirigidos a la comprensión de las transformaciones culturales y espirituales a través de las manifestaciones artísticas. Hoy sus principales líneas de investigación están relacionadas con la función del arte desde la Edad Media hasta la actualidad. \nForma parte de una línea de investigación dedicada al arte y la posmodernidad en la Universidad Católica de Valencia. Es miembro del Comité Científico Internacional de la “Semana de la imagen SIMUFV” de la Universidad Francisco de Vitoria y del Gruppo di ricerca dell International Human-being Research Center (IHRC) de la Universidad de Perugia además del Consejo asesor de la Colección Jano de Comunicación y Humanidades de la editorial Sindéresis indexada en el SPI. \nAdemás de su labor docente e investigadora\, ha sido también\, gestora cultural\, responsable de comunicación y didáctica del arte para instituciones públicas. \nCartel:
URL:https://historico.ateneovalencia.es/evento/el-santo-caliz-de-la-catedral-de-valencia-hipotesis-de-su-llegada-a-la-corona-de-aragon-desde-egipto/
LOCATION:Teatro Ateneo
CATEGORIES:Ciclo de Conferencias
ATTACH;FMTTYPE=image/jpeg:https://historico.ateneovalencia.es/wp-content/uploads/2023/02/20230320-Santo-Caliz.jpg
END:VEVENT
END:VCALENDAR