BEGIN:VCALENDAR
VERSION:2.0
PRODID:-//Ateneo Mercantil de Valencia - ECPv6.0.4//NONSGML v1.0//EN
CALSCALE:GREGORIAN
METHOD:PUBLISH
X-ORIGINAL-URL:https://historico.ateneovalencia.es
X-WR-CALDESC:Eventos para Ateneo Mercantil de Valencia
REFRESH-INTERVAL;VALUE=DURATION:PT1H
X-Robots-Tag:noindex
X-PUBLISHED-TTL:PT1H
BEGIN:VTIMEZONE
TZID:Europe/Madrid
BEGIN:DAYLIGHT
TZOFFSETFROM:+0100
TZOFFSETTO:+0200
TZNAME:CEST
DTSTART:20230326T010000
END:DAYLIGHT
BEGIN:STANDARD
TZOFFSETFROM:+0200
TZOFFSETTO:+0100
TZNAME:CET
DTSTART:20231029T010000
END:STANDARD
END:VTIMEZONE
BEGIN:VEVENT
DTSTART;TZID=Europe/Madrid:20230208T190000
DTEND;TZID=Europe/Madrid:20230208T203000
DTSTAMP:20260424T092849
CREATED:20230112T132654Z
LAST-MODIFIED:20230131T100505Z
UID:72671-1675882800-1675888200@historico.ateneovalencia.es
SUMMARY:Ciclo Grandes Enigmas de la Humanidad: "En busca del Éxodo"
DESCRIPTION:En esta ocasión Luis Tobajas nos lleva a Egipto. Un viaje por el monte Sinaí. Actualmente se puede subir\, es una ruta de unas tres horas que también denominan The camel route. Y en lugar de escoger esta ruta se puede seguir también la de los "escalones de la penitencia"\, 3.750 escalones hasta la cumbre. \nEnlace para el Online: https://youtu.be/m4gaWnk7HFs\nFue Santa Elena\, la madre de Alejandro Magno\, patrona de la arqueología es quien dictaminó que ése era el sagrado Monte Sinaí. Y son muchas las preguntas que se hace Luis Tobajas en torno a la figura de Moisés. Como el origen de su linaje. Por un lado\, la realeza y sus miembros\, que eran considerada dioses\, ¿podían adoptar a un niño y\, sobre todo\, un niño hebreo? \nEl nombre también genera sus dudas porque\, ¿el hijo de un faraón iba a llevar nombre que no fuera egipcio? Luis nos da una teoría al respecto\, sobre que Moisés responde al final del nombre que significa "hijo de" y lo que hizo fue renunciar al nombre del dios que debía llevar. Y otra pregunta\, ¿qué relación puede tener Tutankamón con el éxodo y con Moisés? Luis Tobajas nos desgranará el misterio. \nTítulo: "En busca del Éxodo" \nConferenciante: Luis Tobajas \nDía: Miércoles 8 de febrero de 2023 \nHora: 19 horas \nSalón: Salón de Actos \nEntrada libre y gratuita hasta completar aforo. \nCartel:
URL:https://historico.ateneovalencia.es/evento/ciclo-grandes-enigmas-de-la-humanidad-en-busca-del-exodo/
LOCATION:Teatro Ateneo
CATEGORIES:Ciclo Grandes Enigmas de la Humanidad
ATTACH;FMTTYPE=image/jpeg:https://historico.ateneovalencia.es/wp-content/uploads/2023/01/20230208-Exodo-Luis-Tobajas.jpg
END:VEVENT
END:VCALENDAR