BEGIN:VCALENDAR
VERSION:2.0
PRODID:-//Ateneo Mercantil de Valencia - ECPv6.0.4//NONSGML v1.0//EN
CALSCALE:GREGORIAN
METHOD:PUBLISH
X-WR-CALNAME:Ateneo Mercantil de Valencia
X-ORIGINAL-URL:https://historico.ateneovalencia.es
X-WR-CALDESC:Eventos para Ateneo Mercantil de Valencia
REFRESH-INTERVAL;VALUE=DURATION:PT1H
X-Robots-Tag:noindex
X-PUBLISHED-TTL:PT1H
BEGIN:VTIMEZONE
TZID:Europe/Madrid
BEGIN:DAYLIGHT
TZOFFSETFROM:+0100
TZOFFSETTO:+0200
TZNAME:CEST
DTSTART:20230326T010000
END:DAYLIGHT
BEGIN:STANDARD
TZOFFSETFROM:+0200
TZOFFSETTO:+0100
TZNAME:CET
DTSTART:20231029T010000
END:STANDARD
END:VTIMEZONE
BEGIN:VEVENT
DTSTART;TZID=Europe/Madrid:20230207T190000
DTEND;TZID=Europe/Madrid:20230207T203000
DTSTAMP:20260424T023931
CREATED:20221122T131032Z
LAST-MODIFIED:20230110T173525Z
UID:71979-1675796400-1675801800@historico.ateneovalencia.es
SUMMARY:Ciclo Antiguo Egipto: "Howard Carter - Tutankhamón: Separados por 3250 años y unidos para siempre"
DESCRIPTION:Con la llegada del nuevo año llega la primera de las conferencias programadas para el Ciclo Antiguo Egipto para este 2023 con una ponencia muy especial sobre Howard Carter y Tutankhamón\, ya que hace unos meses que se ha celbrado el centenario del descubrimiento de la tumba del gran faraón. "Howard Carter - Tutankhamón: Separados por 3250 años y unidos para siempre" nos traerá todo lo que ocurrió cuando el británico Howard Carter descubrió en el Valle de los Reyes de Egipto los primeros escalones que llevaban a la tumba de Tutankamón\, un sepulcro intacto\, de tesoros inimaginables. La ponente será la presidenta del Asociación Española de Egiptología\, Rosa Pujol. \nEnlace para el Online: https://youtu.be/Wppk9_vCThU\nUn emotivo homenaje a la labor de Carter como arqueólogo\, que aquel 4 de noviembre fue un día importantísimo para la historia de la Egiptología\, ya que 100 años después seguimos hablando de los protagonistas de aquel descubrimiento. En un hotel de Luxor\, el Winter Palace\, el egiptólogo Howard Carter anunció hace cien años el descubrimiento de la tumba de Tutankamón. \nTítulo: "Howard Carter - Tutankhamón: Separados por 3250 años y unidos para siempre" \nConferenciante: Rosa Pujol \nDía: Martes 7 de febrero de 2023 \nHora: 19 horas \nSalón: Online \nCartel:
URL:https://historico.ateneovalencia.es/evento/ciclo-antiguo-egipto-howard-carter-tutankhamon-separados-por-3250-anos-y-unidos-para-siempre/
LOCATION:On line
CATEGORIES:Ciclo Antiguo Egipto
ATTACH;FMTTYPE=image/jpeg:https://historico.ateneovalencia.es/wp-content/uploads/2022/11/20230207-Antiguo-Egipto-Carter-Tutankhamon-1.jpg
END:VEVENT
END:VCALENDAR