BEGIN:VCALENDAR
VERSION:2.0
PRODID:-//Ateneo Mercantil de Valencia - ECPv6.0.4//NONSGML v1.0//EN
CALSCALE:GREGORIAN
METHOD:PUBLISH
X-WR-CALNAME:Ateneo Mercantil de Valencia
X-ORIGINAL-URL:https://historico.ateneovalencia.es
X-WR-CALDESC:Eventos para Ateneo Mercantil de Valencia
REFRESH-INTERVAL;VALUE=DURATION:PT1H
X-Robots-Tag:noindex
X-PUBLISHED-TTL:PT1H
BEGIN:VTIMEZONE
TZID:Europe/Madrid
BEGIN:DAYLIGHT
TZOFFSETFROM:+0100
TZOFFSETTO:+0200
TZNAME:CEST
DTSTART:20230326T010000
END:DAYLIGHT
BEGIN:STANDARD
TZOFFSETFROM:+0200
TZOFFSETTO:+0100
TZNAME:CET
DTSTART:20231029T010000
END:STANDARD
END:VTIMEZONE
BEGIN:VEVENT
DTSTART;TZID=Europe/Madrid:20230118T190000
DTEND;TZID=Europe/Madrid:20230118T203000
DTSTAMP:20260424T094022
CREATED:20221021T092514Z
LAST-MODIFIED:20230116T092723Z
UID:71515-1674068400-1674073800@historico.ateneovalencia.es
SUMMARY:Ciclo de Conferencias: "Arquitectura y curiosidades de San Vicente Mártir en el Mundo"
DESCRIPTION:La figura de San Vicente Mártir es tan importante en Valencia que puede afirmarse que es el personaje que la coloca en el mapa de la Historia. Su tributo se traduce en que la calle principal de la ciudad se dedique a su santo protector y su estela sea seguida por ciudades como Lisboa y Berna que siguen el ejemplo de nuestra ciudad. En esta disertación vamos a desgranar un buen número de hechos insólitos que homenajean al más fecundo de nuestros santos. Es más necesario que nunca pues el desconocimiento sobre su impacto y méritos nos preocupa. \nTítulo: "Arquitectura y curiosidades de San Vicente Mártir en el Mundo" \nPonente: Salvador Raga Navarro\n \nDía: Miércoles 18 de enero de 2023 \nHora: 19 horas \nLugar: Salón Sorolla del Ateneo Mercantil de Valencia \nEntrada Libre y Gratuita hasta completar aforo \nCurriculum abreviado de Salvador Raga:\nSalvador Raga Navarro (Valencia\, 1968). Licenciado en Derecho y Presidente de la Asociación Cultural "Via Vicentius Valentiae – Gogistes Valencians"\, institución muy activa en la difusión de aspectos de la cultura e historia valencianas en general y la vicentina en particular. Ello ha dado pie a un buen número de conferencias\, exposiciones y colaboraciones con otras entidades culturales\, tertulias televisivas y programas radiofónicos como colaborador en cuestiones culturales valencianas\, especialmente con su colaboración semanal en el programa de Levante TV "Valencia en Directe". \nProfesor del "Aula Cultural" del Ateneo Mercantil de Valencia en materia de cultura valenciana. Procedente del mundo de los blogs de distintas temáticas culturales\, publicó en 2014 el libro "101 Hechos Legendarios en la Historia de Valencia" que ha sido un éxito editorial con sus seis ediciones. Como continuación a esta saga literaria\, ha publicado en 2017 "1001 Curiosidades de la Historia de Valencia que te dejarán con la boca abierta" que relaciona sorpresas y anécdotas de nuestra historia que nos sorprenderán. También ha colaborado con un relato en la obra "30 hombres fascinantes en la historia de Valencia". \nEs creador y coordina e impulsa el "Grupo Cultural Germanies"\, grupo formado por profesionales de distintos ámbitos que desarrolla un voluntariado cultural en entidades benéficas y de otro tipo difundiendo nuestra historia. A través de su presidencia en "Valencianistes per la Solidaritat" intenta mejorar el mundo de la infancia desfavorecida mediante la construcción de instalaciones deportivas y desarrollo de proyectos de integración. Es fundador y editor de la "Editorial Vinatea" que coordina este trabajo\, persigue fines solidarios y hace de la buena literatura el mejor vehículo para difundir nuestros valores. \nCartel:
URL:https://historico.ateneovalencia.es/evento/ciclo-de-conferencias-arquitectura-y-curiosidades-de-san-vicente-martir-en-el-mundo/
LOCATION:Salón Sorolla - Ateneo Mercantil de Valencia\, Plaza del Ayuntamiento 18\, Valencia\, Valencia\, 46002\, España
CATEGORIES:Ciclo de Conferencias
ATTACH;FMTTYPE=image/jpeg:https://historico.ateneovalencia.es/wp-content/uploads/2022/10/20230118-Arquitectura-y-Curiosidades-San-Vicente.jpg
END:VEVENT
END:VCALENDAR