BEGIN:VCALENDAR
VERSION:2.0
PRODID:-//Ateneo Mercantil de Valencia - ECPv6.0.4//NONSGML v1.0//EN
CALSCALE:GREGORIAN
METHOD:PUBLISH
X-WR-CALNAME:Ateneo Mercantil de Valencia
X-ORIGINAL-URL:https://historico.ateneovalencia.es
X-WR-CALDESC:Eventos para Ateneo Mercantil de Valencia
REFRESH-INTERVAL;VALUE=DURATION:PT1H
X-Robots-Tag:noindex
X-PUBLISHED-TTL:PT1H
BEGIN:VTIMEZONE
TZID:Europe/Madrid
BEGIN:DAYLIGHT
TZOFFSETFROM:+0100
TZOFFSETTO:+0200
TZNAME:CEST
DTSTART:20230326T010000
END:DAYLIGHT
BEGIN:STANDARD
TZOFFSETFROM:+0200
TZOFFSETTO:+0100
TZNAME:CET
DTSTART:20231029T010000
END:STANDARD
END:VTIMEZONE
BEGIN:VEVENT
DTSTART;TZID=Europe/Madrid:20230110T173000
DTEND;TZID=Europe/Madrid:20230110T190000
DTSTAMP:20260424T094024
CREATED:20230109T085421Z
LAST-MODIFIED:20230109T093911Z
UID:72593-1673371800-1673377200@historico.ateneovalencia.es
SUMMARY:Grandes obras de la Pintura Universal del Siglo XV
DESCRIPTION:Durante la Edad Media la sociedad poseía un marcadísimo carácter teocéntrico\, lo que se vio plasmado en el arte de la época. El arte pictórico\, al igual que las demás manifestaciones artísticas tenían como temas principales los de tipo religioso\, cristiano. Se buscaba plasmar una belleza sensible dada por las formas\, colores\, composición\, etc.\, y otra belleza invisible dada por el simbolismo. El arte se entendía como abstracción y manifestación de belleza divina\, donde los rasgos no están del todo definidos\, no asiéndose semejantes a la realidad sino una esquematización de ésta presentada como símbolo. Estaba basada en formas geométricas\, se observa un marcado geometrismo y esquematización\, lo que contrastaba con la herencia de la Antigüedad clásica. Las composiciones no son realistas. \nEnlace para el Online: https://youtu.be/2WGsHdbTjfA\nTítulo: "Grandes obras de la Pintura Universal del Siglo XV" \nConferenciante: D. Amando García \nDía: Martes 10 de enero de 2023 \nHora: 17.30 horas \nConferencia Online \nCartel:
URL:https://historico.ateneovalencia.es/evento/grandes-obras-de-la-pintura-universal-del-siglo-xv/
LOCATION:On line
CATEGORIES:Ciclo de Conferencias
ATTACH;FMTTYPE=image/jpeg:https://historico.ateneovalencia.es/wp-content/uploads/2023/01/20230110-Obras-Maestras-Pintura-S-XV.jpg
END:VEVENT
END:VCALENDAR