BEGIN:VCALENDAR
VERSION:2.0
PRODID:-//Ateneo Mercantil de Valencia - ECPv6.0.4//NONSGML v1.0//EN
CALSCALE:GREGORIAN
METHOD:PUBLISH
X-ORIGINAL-URL:https://historico.ateneovalencia.es
X-WR-CALDESC:Eventos para Ateneo Mercantil de Valencia
REFRESH-INTERVAL;VALUE=DURATION:PT1H
X-Robots-Tag:noindex
X-PUBLISHED-TTL:PT1H
BEGIN:VTIMEZONE
TZID:Europe/Madrid
BEGIN:DAYLIGHT
TZOFFSETFROM:+0100
TZOFFSETTO:+0200
TZNAME:CEST
DTSTART:20220327T010000
END:DAYLIGHT
BEGIN:STANDARD
TZOFFSETFROM:+0200
TZOFFSETTO:+0100
TZNAME:CET
DTSTART:20221030T010000
END:STANDARD
END:VTIMEZONE
BEGIN:VEVENT
DTSTART;TZID=Europe/Madrid:20221219T180000
DTEND;TZID=Europe/Madrid:20221219T193000
DTSTAMP:20260424T215512
CREATED:20221129T131456Z
LAST-MODIFIED:20221212T125556Z
UID:72210-1671472800-1671478200@historico.ateneovalencia.es
SUMMARY:La Orden del Temple en batalla. Bonum Certamen Certare
DESCRIPTION:Uno de los aspectos más conocidos e importantes de la Orden del Temple -además de causa de su nacimiento- fue sin lugar a dudas el de la guerra. En el año 1120 y según nos cuentan las crónicas\, Hugo de Payens junto con otros caballeros emitían los tres votos de castidad\, pobreza y obediencia frente al patriarca de Jerusalén\, Gormondo de Piquigny\, añadiendo un cuarto voto\, el de la protección de los peregrinos y defensa de los Santos Lugares. Pero el Temple pronto pasó de ser una policía de caminos a ser uno de los ejércitos más profesionales de su tiempo... \nEnlace para seguirla Online: https://youtu.be/p2cLwrXE0MM\n\nTítulo: "La Orden del Temple en batalla. Bonum Certamen Certare" \nPonente: Santiago Soler Seguí \nDía: Lunes 19 de diciembre de 2022 \nHora: 18 horas \nLugar: Salón del Actos del Ateneo Mercantil de Valencia \nEntrada Libre hasta completar aforo | Gratuita \nCurriculum de Santiago Soler Seguí\nValencia\, 1972. Articulista\, escritor e investigador histórico especializado en la Orden del Temple. Ha formado parte de la Junta Directiva de la Sociedad de Estudios Templarios y Medievales\, TEMPLESPAÑA\, con funciones de supervisor general y coordinador del Boletín de Noticias; coautor de los libros Codex Templi (Aguilar 2005) y Gran Guía de la España Templaria (Aguilar 2009). \nFue miembro de la Junta Directiva de la Asociación BAUCAN y coordinador y redactor de la revista digital ABACUS dedicada a la historia documentada de la Orden del Temple. También ha sido miembro de la Junta Directiva de la Asociación de Divulgación e Investigaciones Históricas\, ADIH; redactor y formador del curso Historia de la Orden del Temple impartido en el castillo berciano de Cornatel y ha sido articulista en diversas publicaciones y medios digitales como Correo Extremadura. \nCoautor de 101 Relatos de la publicidad antigua\, Valencia en la memoria (2018\, Editorial VINATEA) y autor de 101 Misterios de la catedral de Valencia (2022\, Editorial VINATEA) también ha publicado diversos artículos dedicados a la historia medieval de Valencia; ha sido conferenciante en diversas jornadas medievales como las realizas en Alcalá de Xivert y ha participado en diversos programas de radio. Actualmente dirige y administra el blog VALENTIA MEDIAEVALIS\, dedicado a la Historia Medieval de Valencia y forma parte del consejo de redacción de la revista CUADERNOS TEMPLARIOS. \nCartel:
URL:https://historico.ateneovalencia.es/evento/la-orden-del-temple-en-batalla-bonum-certamen-certare/
LOCATION:Teatro Ateneo
CATEGORIES:Ciclo de Conferencias
ATTACH;FMTTYPE=image/jpeg:https://historico.ateneovalencia.es/wp-content/uploads/2022/09/20221219-Templarios-Batalla-1.jpg
END:VEVENT
END:VCALENDAR