BEGIN:VCALENDAR
VERSION:2.0
PRODID:-//Ateneo Mercantil de Valencia - ECPv6.0.4//NONSGML v1.0//EN
CALSCALE:GREGORIAN
METHOD:PUBLISH
X-WR-CALNAME:Ateneo Mercantil de Valencia
X-ORIGINAL-URL:https://historico.ateneovalencia.es
X-WR-CALDESC:Eventos para Ateneo Mercantil de Valencia
REFRESH-INTERVAL;VALUE=DURATION:PT1H
X-Robots-Tag:noindex
X-PUBLISHED-TTL:PT1H
BEGIN:VTIMEZONE
TZID:Europe/Madrid
BEGIN:DAYLIGHT
TZOFFSETFROM:+0100
TZOFFSETTO:+0200
TZNAME:CEST
DTSTART:20220327T010000
END:DAYLIGHT
BEGIN:STANDARD
TZOFFSETFROM:+0200
TZOFFSETTO:+0100
TZNAME:CET
DTSTART:20221030T010000
END:STANDARD
END:VTIMEZONE
BEGIN:VEVENT
DTSTART;TZID=Europe/Madrid:20221215T190000
DTEND;TZID=Europe/Madrid:20221215T203000
DTSTAMP:20260424T214735
CREATED:20221215T165044Z
LAST-MODIFIED:20221215T170011Z
UID:72425-1671130800-1671136200@historico.ateneovalencia.es
SUMMARY:"El Arte Salvado; la llegada de los fondos del Tesoro Artístico Nacional a Valencia durante la Guerra Civil española"
DESCRIPTION:El Ateneo Mercantil de Valencia ha organizado una conferencia para el próximo jueves 15 de diciembre a las 19 horas en el Salón Sorolla que nos desgranará el salvamento del patrimonio artístico español y de la intervención internacional que sucedió en la Guerra Civil para tratar de proteger y evacuar del patrimonio artístico nacional\, así como la intervención de las instituciones internacionales para evitar su destrucción y garantizar su conservación. La conferencia se engloba dentro del Ciclo 'Valencia y su papel fundamental en la historia como refugio artístico". \nTítulo: "El Arte Salvado; la llegada de los fondos del Tesoro Artístico Nacional a Valencia durante la Guerra Civil española". \nConferenciante: Inmaculada Traver Badenes. \nDía: 15 de Diciembre de 2022 \nHora: 19 horas \nLugar: Salón Sorolla \nEntrada Libre y Gratuita hasta completar aforo. \nCartel:
URL:https://historico.ateneovalencia.es/evento/el-arte-salvado-la-llegada-de-los-fondos-del-tesoro-artistico-nacional-a-valencia-durante-la-guerra-civil-espanola/
LOCATION:Salón Sorolla - Ateneo Mercantil de Valencia\, Plaza del Ayuntamiento 18\, Valencia\, Valencia\, 46002\, España
CATEGORIES:Ciclo de Conferencias
ATTACH;FMTTYPE=image/jpeg:https://historico.ateneovalencia.es/wp-content/uploads/2022/12/20221215-Arte-Salvado-1.jpg
END:VEVENT
END:VCALENDAR