BEGIN:VCALENDAR
VERSION:2.0
PRODID:-//Ateneo Mercantil de Valencia - ECPv6.0.4//NONSGML v1.0//EN
CALSCALE:GREGORIAN
METHOD:PUBLISH
X-WR-CALNAME:Ateneo Mercantil de Valencia
X-ORIGINAL-URL:https://historico.ateneovalencia.es
X-WR-CALDESC:Eventos para Ateneo Mercantil de Valencia
REFRESH-INTERVAL;VALUE=DURATION:PT1H
X-Robots-Tag:noindex
X-PUBLISHED-TTL:PT1H
BEGIN:VTIMEZONE
TZID:Europe/Madrid
BEGIN:DAYLIGHT
TZOFFSETFROM:+0100
TZOFFSETTO:+0200
TZNAME:CEST
DTSTART:20220327T010000
END:DAYLIGHT
BEGIN:STANDARD
TZOFFSETFROM:+0200
TZOFFSETTO:+0100
TZNAME:CET
DTSTART:20221030T010000
END:STANDARD
END:VTIMEZONE
BEGIN:VEVENT
DTSTART;TZID=Europe/Madrid:20220929T190000
DTEND;TZID=Europe/Madrid:20220929T203000
DTSTAMP:20260425T002812
CREATED:20220721T113322Z
LAST-MODIFIED:20220912T092353Z
UID:70870-1664478000-1664483400@historico.ateneovalencia.es
SUMMARY:"Reformas Religiosas desde el siglo XIV: Causas e influencias en la Europa Moderna"
DESCRIPTION:Las Reformas Religiosas produjeron un vuelco cultural y religioso amplísimo\, además\, la influencia de los enfoques del Humanismo renacentista fue fundamental en este tiempo. Todo dio un vuelco: en la historia\, filología\, educación\, artes plásticas\, arquitectura\, ciencias exactas\, etc... por fin llega la modernidad a Europa. También en el campo eclesiástico y en especial la Teología se producen cambios y reformas de hondo calado. \nEnlace para ver Online: https://youtu.be/tlL8J-RyQGM\n\nLa conferencia llega el próximo jueves 29 de septiembre a las 19 horas en el Salón de Actos del Ateneo Mercantil y el ponente es el Prof. Marco Antonio Coronel\, profesor de Filología de la Universitat de València\, poesta y ensayista. Una conferencia que tratará de responder varias cosas: ¿Cómo influyeron las reformas en los demás ámbitos culturales?\, ¿qué relación hubo entre las reformas religiosas?... Se intentará ofrecer una cierta visión panorámica\, que nos permita conocer una síntesis significativa sobre estas cuestiones. \nCartel:
URL:https://historico.ateneovalencia.es/evento/reformas-religiosas-desde-el-siglo-xiv-causas-e-influencias-en-la-europa-moderna/
LOCATION:Teatro Ateneo
CATEGORIES:Ciclo de Conferencias
ATTACH;FMTTYPE=image/jpeg:https://historico.ateneovalencia.es/wp-content/uploads/2022/07/20220922-Reforma-Iglesia-Europa-Moderna.jpg
END:VEVENT
END:VCALENDAR