BEGIN:VCALENDAR
VERSION:2.0
PRODID:-//Ateneo Mercantil de Valencia - ECPv6.0.4//NONSGML v1.0//EN
CALSCALE:GREGORIAN
METHOD:PUBLISH
X-WR-CALNAME:Ateneo Mercantil de Valencia
X-ORIGINAL-URL:https://historico.ateneovalencia.es
X-WR-CALDESC:Eventos para Ateneo Mercantil de Valencia
REFRESH-INTERVAL;VALUE=DURATION:PT1H
X-Robots-Tag:noindex
X-PUBLISHED-TTL:PT1H
BEGIN:VTIMEZONE
TZID:Europe/Madrid
BEGIN:DAYLIGHT
TZOFFSETFROM:+0100
TZOFFSETTO:+0200
TZNAME:CEST
DTSTART:20220327T010000
END:DAYLIGHT
BEGIN:STANDARD
TZOFFSETFROM:+0200
TZOFFSETTO:+0100
TZNAME:CET
DTSTART:20221030T010000
END:STANDARD
END:VTIMEZONE
BEGIN:VEVENT
DTSTART;TZID=Europe/Madrid:20220926T190000
DTEND;TZID=Europe/Madrid:20220926T203000
DTSTAMP:20260425T020339
CREATED:20220721T103345Z
LAST-MODIFIED:20220721T103347Z
UID:70860-1664218800-1664224200@historico.ateneovalencia.es
SUMMARY:Ciclo Entidades Historicas Valencianas: "Capitul de Cavallers Jurats de San Vicent"
DESCRIPTION:Con motivo del V Centenario de la canonización de San Vicente Ferrer celebrado en 1955 se produjo un movimiento eclesiástico\, social y popular que encendió entre los organizadores de la conmemoración la idea de crear una institución que\, con naturaleza caballeresca\, fuera guardia de honor del Patrón de Valencia y de su memoria\, velara por su mayor culto\, defendiera sus recuerdos\, y cubriera las carencias que históricamente existían en lo concerniente al fomento de estudios\, publicaciones\, conferencias y otras actividades culturales para un mejor y mayor conocimiento de fray Vicente. Esa institución es el Capitul de Cavallers Jurats de San Vicent. La conferencia podrá seguirse de manera Online por el Facebook del Ateneo Mercantil. \nLa conferencia pertenece al Ciclo de Entidades Históricas Valencianas y llega el próximo lunes 26 de septiembre a las 19 horas en el Salón Sorolla y el ponente será Xavier Catalán Aznar\, que es Lloctinent General del Capitul de Cavallers Jurats de Sant Vicent Ferrer. Coordina el acto y el ciclo\, Vicente de Castro. \nCartel:\n \n 
URL:https://historico.ateneovalencia.es/evento/ciclo-entidades-historicas-valencianas-capitul-de-cavallers-jurats-de-san-vicent/
LOCATION:Salón Sorolla - Ateneo Mercantil de Valencia\, Plaza del Ayuntamiento 18\, Valencia\, Valencia\, 46002\, España
CATEGORIES:Ciclo Entidades Históricas Valencianas
ATTACH;FMTTYPE=image/jpeg:https://historico.ateneovalencia.es/wp-content/uploads/2022/07/20220926-Cavallers-Jurats.jpg
END:VEVENT
END:VCALENDAR