BEGIN:VCALENDAR
VERSION:2.0
PRODID:-//Ateneo Mercantil de Valencia - ECPv6.0.4//NONSGML v1.0//EN
CALSCALE:GREGORIAN
METHOD:PUBLISH
X-WR-CALNAME:Ateneo Mercantil de Valencia
X-ORIGINAL-URL:https://historico.ateneovalencia.es
X-WR-CALDESC:Eventos para Ateneo Mercantil de Valencia
REFRESH-INTERVAL;VALUE=DURATION:PT1H
X-Robots-Tag:noindex
X-PUBLISHED-TTL:PT1H
BEGIN:VTIMEZONE
TZID:Europe/Madrid
BEGIN:DAYLIGHT
TZOFFSETFROM:+0100
TZOFFSETTO:+0200
TZNAME:CEST
DTSTART:20220327T010000
END:DAYLIGHT
BEGIN:STANDARD
TZOFFSETFROM:+0200
TZOFFSETTO:+0100
TZNAME:CET
DTSTART:20221030T010000
END:STANDARD
END:VTIMEZONE
BEGIN:VEVENT
DTSTART;TZID=Europe/Madrid:20220713T190000
DTEND;TZID=Europe/Madrid:20220713T203000
DTSTAMP:20260425T123811
CREATED:20220424T093509Z
LAST-MODIFIED:20220623T100611Z
UID:69700-1657738800-1657744200@historico.ateneovalencia.es
SUMMARY:"Sorolla en su casa. Museo Sorollla" por Blanca Pons-Sorolla
DESCRIPTION:El Ateneo Mercantil de Valencia tiene el gusto de contar con una de las más cualificadas especialistas en la obra de Joaquín Sorolla. Es Blanca Pons-Sorolla\, bisnieta del artista\, quien actualmente es la máxima experta en la vida y obra de su bisabuelo. \nLa patrona de la Fundación Museo Sorolla y presidenta de su Comisión Permanente estará en el Ateneo Mercantil el próximo miércoles 13 de julio a las 19 horas en el Salón de Actos para dar una conferencia bajo el título "Sorolla en su casa. Museo Sorolla". Blanca es autora de una completa biografía del pintor\, de varias monografías en diversos idiomas y coautora de dos tomos de epistolarios\, habiendo escrito además numerosos artículos en revistas de arte y catálogos. \nEnlace para la conferencia Online: https://youtu.be/C0uadpb1_SI\n\nEn la conferencia hará un repaso de la Casa Sorolla\, una obra más del pintor valenciano en pleno Chamberí. Joaquín Sorolla se involucró en el diseño de la vivienda y de los jardines que encomendó al arquitecto Repullés\, así como en su decoración. El palacete fue legado al Estado español. Sorolla se hace una vivienda elegante en la que vivió con su mujer Clotilde y sus tres hijos\, María\, Joaquín y Elena\, de 1911 a 1923\, año en el que fallece. El pintor valenciano se involucró mucho en el diseño de su palacete que se construyó con todos los lujos de aquella época como era la electricidad\, baños o un eleva platos. \nCurriculum de Blanca Pons-Sorolla y Ruiz de la Prada\nBisnieta de Joaquín Sorolla. Investigadora independiente de su obra y trabaja desde hace muchos años en el catálogo razonado del artista. Ha sido comisaria adjunta y documentalista de la exposición Joaquín Sorolla (1863-1923) (Madrid\, 2009)\, celebrada en el Museo del Prado\, y comisaria de Sorolla and America (Dallas\, San Diego y Madrid\, 2013-2014)\, celebrada en el Meadows Museum\, el San Diego Museum of Art y la Fundación MAPFRE\, en esta última sede con el título Sorolla y Estados Unidos.  \nEs autora de la biografía más completa del pintor\, Joaquín Sorolla. Vida y obra (2001)\, de Joaquín Sorolla (1863-1923) (2005) y Sorolla Masterwoks\, (2012). Además\, ha publicado en colaboración con otros autores los Epistolarios de Joaquín Sorolla\, II y III (2008 y 2009\, respectivamente). Es patrona de la Fundación Museo Sorolla y presidenta de su Comisión Permanente. En 1992 fue condecorada por Carlos Gustavo XVI de Suecia por su actividad sobre el pintor\, y en 2009 recibió la Medalla Sorolla de la Hispanic Society of America (Nueva York). \nCartel:\n 
URL:https://historico.ateneovalencia.es/evento/apuntes-de-sorolla-la-esencia-de-su-mirada-por-blanca-pons-sorolla/
LOCATION:Teatro Ateneo
CATEGORIES:Ciclo de Conferencias
ATTACH;FMTTYPE=image/jpeg:https://historico.ateneovalencia.es/wp-content/uploads/2022/04/20220713-Sorolla-Mirada-1.jpg
END:VEVENT
END:VCALENDAR