BEGIN:VCALENDAR
VERSION:2.0
PRODID:-//Ateneo Mercantil de Valencia - ECPv6.0.4//NONSGML v1.0//EN
CALSCALE:GREGORIAN
METHOD:PUBLISH
X-ORIGINAL-URL:https://historico.ateneovalencia.es
X-WR-CALDESC:Eventos para Ateneo Mercantil de Valencia
REFRESH-INTERVAL;VALUE=DURATION:PT1H
X-Robots-Tag:noindex
X-PUBLISHED-TTL:PT1H
BEGIN:VTIMEZONE
TZID:Europe/Madrid
BEGIN:DAYLIGHT
TZOFFSETFROM:+0100
TZOFFSETTO:+0200
TZNAME:CEST
DTSTART:20220327T010000
END:DAYLIGHT
BEGIN:STANDARD
TZOFFSETFROM:+0200
TZOFFSETTO:+0100
TZNAME:CET
DTSTART:20221030T010000
END:STANDARD
END:VTIMEZONE
BEGIN:VEVENT
DTSTART;TZID=Europe/Madrid:20220629T190000
DTEND;TZID=Europe/Madrid:20220629T203000
DTSTAMP:20260425T124319
CREATED:20220516T080628Z
LAST-MODIFIED:20220610T104518Z
UID:70160-1656529200-1656534600@historico.ateneovalencia.es
SUMMARY:"El Cid\, de la ficción a la historia"
DESCRIPTION:El Ciclo de Conferencias nos trae una interesante ponencia sobre Rodrigo Díaz de Vivar. Así\, el próximo miércoles 29 de junio a las 19 horas y tan sólo por online podremos disfrutar de "El Cid\, de la ficción a la historia" con el historiador\, profesor universitario y escritor español\, José Luis Corral. \nEnlace para la conferencia Online: https://youtu.be/yNGqb14PfEU\n\nJosé Luis Corral nos acercará a la historia del Cid\, un hombre que rompió las reglas y cuya vida fue mucho más fascinante de lo que cuenta la tradición épica. El Cid ha llegado hasta nuestros días como una figura mítica\, héroe hispánico de alcance universal. Ningún otro personaje histórico encarna mejor el espíritu de frontera ni el ideal de caballero medieval que Rodrigo Díaz de Vivar. Además\, nos acercará a la historia real de la figura épica\, un hombre insólito\, que fue más allá de los límites impuestos en su tiempo. \nCartel:
URL:https://historico.ateneovalencia.es/evento/el-cid-de-la-ficcion-a-la-historia/
LOCATION:On line
CATEGORIES:Ciclo de Conferencias
ATTACH;FMTTYPE=image/jpeg:https://historico.ateneovalencia.es/wp-content/uploads/2022/05/20220628-El-Cid-2.jpg
END:VEVENT
END:VCALENDAR