BEGIN:VCALENDAR
VERSION:2.0
PRODID:-//Ateneo Mercantil de Valencia - ECPv6.0.4//NONSGML v1.0//EN
CALSCALE:GREGORIAN
METHOD:PUBLISH
X-WR-CALNAME:Ateneo Mercantil de Valencia
X-ORIGINAL-URL:https://historico.ateneovalencia.es
X-WR-CALDESC:Eventos para Ateneo Mercantil de Valencia
REFRESH-INTERVAL;VALUE=DURATION:PT1H
X-Robots-Tag:noindex
X-PUBLISHED-TTL:PT1H
BEGIN:VTIMEZONE
TZID:Europe/Madrid
BEGIN:DAYLIGHT
TZOFFSETFROM:+0100
TZOFFSETTO:+0200
TZNAME:CEST
DTSTART:20220327T010000
END:DAYLIGHT
BEGIN:STANDARD
TZOFFSETFROM:+0200
TZOFFSETTO:+0100
TZNAME:CET
DTSTART:20221030T010000
END:STANDARD
END:VTIMEZONE
BEGIN:VEVENT
DTSTART;TZID=Europe/Madrid:20220628T190000
DTEND;TZID=Europe/Madrid:20220628T203000
DTSTAMP:20260425T182027
CREATED:20220611T174333Z
LAST-MODIFIED:20220617T124418Z
UID:70416-1656442800-1656448200@historico.ateneovalencia.es
SUMMARY:Ciclo Grandes Enigmas de la Humanidad: "La carrera al Polo Sur entre Amundsen y Scott"
DESCRIPTION:El Ciclo Grandes Enigmas de la Humanidad regresa al Ateneo Mercantil de Valencia el próximo martes 28 de junio a las 19 horas en el Salón de Actos del Ateneo Mercantil de Valencia con la conferencia "La carrera al Polo Sur entre Amundsen y Scott" que ofrecerá el físico\, científico\, y escritor\, Javier Cacho. \nEnlace para la conferencia Online: https://youtu.be/a9KHIB9tnmY\nEl descubrimiento del Polo Sur es una historia trepidante\, un desafío que protagonizaron el noruego Roald Amundsen y el inglés Robert F. Scott\, una exploración que se convirtió en la que podríamos llamar la última gran aventura del ser humano\, después de la llegada a la Luna. Amundsen viajó a la Antártida para ganar\, Scott para morir\, ambos para alcanzar la gloria. \nEl experto en la Antártida Javier Cacho nos contará con todo lujo de detalles las peripecias de las expediciones de Amundsen y Scott\, un duelo que ejemplifica la sempiterna gesta de la lucha entre el hombre y la naturaleza\, donde el trofeo sería el lugar más recóndito de la Tierra\, el punto más inaccesible\, el paraje más peligroso: el Polo Sur. Y aunque ese desafío ya era suficiente en sí mismo\, las circunstancias conspiraron para que la hazaña se convirtiera\, además\, en una competición\, en una carrera\, no sólo para alcanzar el Polo Sur\, sino para ser los primeros. \nJavier Cacho Gómez\nComenzó su carrera como investigador en 1976 en la Comisión Nacional de Investigación Espacial (CONIE) donde llevó a cabo investigaciones relacionadas con el estudio de la capa de ozono. En 1985 se incorporó al Instituto Nacional de Técnica Aeroespacial (INTA) donde durante varios años fue responsable del Laboratorio de Estudios de la Atmósfera. El descubrimiento del agujero de ozono en la Antártida hizo que volviese su atención a este continente. Así en 1986 fue miembro de la Primera Expedición Científica Española a la Antártida\, a donde regresaría los años siguientes\, una de ellas en pleno invierno antártico\, para continuar las investigaciones relacionadas con la destrucción del ozono. \nTras su primer libro “Antártida: El agujero de ozono”\, el primer libro en español sobre este tema y que se ha convertido en un clásico en la materia\, su actividad profesional está ligada tanto a la Antártida como a la promoción de la cultura científica. Así durante varios años fue colaborador de la Comisión Interministerial de Ciencia y Tecnología en el Programa Antártico Español\, Secretario del Comité Nacional de Investigación Antártica de España y delegado alternativo en el Scientific Committe on Antárctic Research. Regresando a la Antártida durante varias campañas de investigación como jefe de la base antártica española Juan Carlos I. \nCartel:
URL:https://historico.ateneovalencia.es/evento/ciclo-grandes-enigmas-de-la-humanidad-la-carrera-al-polo-sur-entre-amundsen-y-scott/
LOCATION:Teatro Ateneo
CATEGORIES:Ciclo Grandes Enigmas de la Humanidad
ATTACH;FMTTYPE=image/jpeg:https://historico.ateneovalencia.es/wp-content/uploads/2022/06/20220628-Polo-Sur-Javier-Cacho.jpg
END:VEVENT
END:VCALENDAR