BEGIN:VCALENDAR
VERSION:2.0
PRODID:-//Ateneo Mercantil de Valencia - ECPv6.0.4//NONSGML v1.0//EN
CALSCALE:GREGORIAN
METHOD:PUBLISH
X-ORIGINAL-URL:https://historico.ateneovalencia.es
X-WR-CALDESC:Eventos para Ateneo Mercantil de Valencia
REFRESH-INTERVAL;VALUE=DURATION:PT1H
X-Robots-Tag:noindex
X-PUBLISHED-TTL:PT1H
BEGIN:VTIMEZONE
TZID:Europe/Madrid
BEGIN:DAYLIGHT
TZOFFSETFROM:+0100
TZOFFSETTO:+0200
TZNAME:CEST
DTSTART:20220327T010000
END:DAYLIGHT
BEGIN:STANDARD
TZOFFSETFROM:+0200
TZOFFSETTO:+0100
TZNAME:CET
DTSTART:20221030T010000
END:STANDARD
END:VTIMEZONE
BEGIN:VEVENT
DTSTART;TZID=Europe/Madrid:20220426T173000
DTEND;TZID=Europe/Madrid:20220426T190000
DTSTAMP:20260425T182044
CREATED:20220314T192407Z
LAST-MODIFIED:20220422T090629Z
UID:68682-1650994200-1650999600@historico.ateneovalencia.es
SUMMARY:Ciclo de Conferencias: "La pintura románica en España"
DESCRIPTION:El Ateneo Mercantil de Valencia ha programado un serial de conferencias con D. Amando García en la que se tocarán diversos temas de actualidad en los que es especialista. Serán conferencias que sólo se podrán seguir de manera online tanto por el Canal de YouTube del Ateneo como por FacebookLive. \nEspaña cuenta con importantes manifestaciones de pintura correspondiente al Románico. Hay dos localizaciones clave en nuestro país\, como son las de Cataluña (San Clemente y Santa María en Tahull) y la escuela castellana\, representada por las pinturas de San Isidoro de León o las de San Baudilio de Berlanga. El Ateneo Mercantil de Valencia ha programado la conferencia "La pintura románica en España" el próximo martes 26 de abril a las 17.30 horas y será de manera online. \nEnlace para ver la conferencia Online: https://youtu.be/Ph9-mV9_NWg\n\nCartel:
URL:https://historico.ateneovalencia.es/evento/ciclo-de-conferencias-la-pintura-romanica-en-espana/
LOCATION:On line
CATEGORIES:Ciclo de Conferencias
ATTACH;FMTTYPE=image/jpeg:https://historico.ateneovalencia.es/wp-content/uploads/2022/03/20220426-Pintura-romanica-en-España.jpg
END:VEVENT
BEGIN:VEVENT
DTSTART;TZID=Europe/Madrid:20220426T190000
DTEND;TZID=Europe/Madrid:20220426T203000
DTSTAMP:20260425T182044
CREATED:20220322T001743Z
LAST-MODIFIED:20220422T090633Z
UID:68922-1650999600-1651005000@historico.ateneovalencia.es
SUMMARY:"El Bajo Imperio Romano. Las reformas de Diocleciano y Constantino"
DESCRIPTION:El proceso reformista comenzado por el emperador Diocleciano\, reformas de Diocleciano (284-305) \, y continuadas por el emperador Constantino\, las reformas de Constantino\, que se extendieron durante todo su reinado\, del 306 hasta el 337\, año de su muerte fue un factor decisivo en la supervivencia del Bajo Imperio romano. La clave reestructuración del ejército fue muy importante\, pero hay dos hechos que marcan este periodo reformista: la declaración de la libertad de cultos (313)\, lo que terminaría con las persecuciones al cristianismo\, que será religión oficial del imperio años más tarde o la inauguración de la nueva capital del Imperio romano\, Constantinopla\, lo que rebajaría a Roma a una ciudad secundaria luego de mil años de dominio. \nEnlace para seguir la conferencia Online: https://youtu.be/lnQpSpXMju0\n\nTítulo: El Bajo Imperio Romano. Las reformas de Diocleciano y Constantino. \nPonente: D. Gregorio Muelas Bermúdez. Escritor y Licenciado en Historia por la Universitat de València. \nFecha: Martes 26 de abril de 2022 | 19 horas \nUbicación: Salón de Actos | Ateneo Mercantil de Valencia \nCurriculum:\nGregorio Muelas Bermúdez. Nace en Sagunto en 1977. Licenciado en Historia por la Universitat de València. Ha realizado los cursos de Doctorado en el Departamento de Historia Contemporánea. Especialista en Enseñanza de la Lengua Española y Literatura por la Universidad Europea Miguel de Cervantes. Ejerce la crítica literaria en diversas publicaciones digitales e impresas\, como Quimera\, Paraíso\, Achtung!\, Estación Poesía\, El coloquio de los perros\, Mundiario\, etc. \nEs codirector y editor de CRÁTERA Revista de crítica y poesía contemporánea\, miembro de la junta directiva de la Asociación Valenciana de Escritores y Críticos Literarios (CLAVE) y del consejo editorial de la web Todo Literatura. \nHa publicado trabajos de creación e investigación literaria en revistas culturales y universitarias de Argelia\, Estados Unidos\, Colombia\, México\, Puerto Rico y Rumanía\, y ha sido traducido al alemán\, inglés\, portugués y rumano. \nHa publicado los poemarios Aunque me borre el tiempo (2010)\, Un fragmento de eternidad (2014) y Estado de Acedia (2019). El libro de guiones de cine Cuando la aurora le hable al tiempo (2011). Los libros de haikus La soledad encendida (2015 y 2021) y A la luz de la flor del almendro (2017)\, y el libro de crítica y ensayo Polifonía de lo inmanente. Apuntes sobre poesía española contemporánea (2010-2017) (2017). Además\, ha sido incluido en diversas antologías internacionales\, como Cartografías de Orfeo. Antología de joven poesía valenciana (Isla Negra\, Puerto Rico\, 2014). Publica con Olé Libros su primera novela El primer tetrarca (2021). \nCartel:
URL:https://historico.ateneovalencia.es/evento/el-bajo-imperio-romano-las-reformas-de-diocleciano-y-constantino/
LOCATION:Teatro Ateneo
CATEGORIES:Ciclo de Conferencias
ATTACH;FMTTYPE=image/jpeg:https://historico.ateneovalencia.es/wp-content/uploads/2022/03/20220426-Bajo-Imperio-Romano-1.jpg
END:VEVENT
END:VCALENDAR