BEGIN:VCALENDAR
VERSION:2.0
PRODID:-//Ateneo Mercantil de Valencia - ECPv6.0.4//NONSGML v1.0//EN
CALSCALE:GREGORIAN
METHOD:PUBLISH
X-WR-CALNAME:Ateneo Mercantil de Valencia
X-ORIGINAL-URL:https://historico.ateneovalencia.es
X-WR-CALDESC:Eventos para Ateneo Mercantil de Valencia
REFRESH-INTERVAL;VALUE=DURATION:PT1H
X-Robots-Tag:noindex
X-PUBLISHED-TTL:PT1H
BEGIN:VTIMEZONE
TZID:Europe/Madrid
BEGIN:DAYLIGHT
TZOFFSETFROM:+0100
TZOFFSETTO:+0200
TZNAME:CEST
DTSTART:20220327T010000
END:DAYLIGHT
BEGIN:STANDARD
TZOFFSETFROM:+0200
TZOFFSETTO:+0100
TZNAME:CET
DTSTART:20221030T010000
END:STANDARD
END:VTIMEZONE
BEGIN:VEVENT
DTSTART;TZID=Europe/Madrid:20220419T190000
DTEND;TZID=Europe/Madrid:20220419T203000
DTSTAMP:20260425T182031
CREATED:20220221T124652Z
LAST-MODIFIED:20220225T134336Z
UID:67340-1650394800-1650400200@historico.ateneovalencia.es
SUMMARY:"Gladiadores. Mito y realidad"
DESCRIPTION:El escritor Fernando Lillo Redonet nos acercará el próximo martes 19 de abril a las 19 horas en Online la figura de los gladiadores. De su mano conoceremos a los gladiadores antes y durante el espectáculo\, así como el impacto de estos combates en el público. Antes del espectáculo nos remontaremos a los orígenes funerarios y rituales de este tipo de luchas\, entraremos en una escuela de gladiadores para saber cómo eran reclutados\, cómo entrenaban y de qué se alimentaban\, cuáles eran las relaciones dentro de la familia gladiatoria y qué tipos de gladiadores había con sus principales características. También sabremos quién organizaba los juegos y cuánto podían costar\, y muchas otras cosas. \nEnlace para la conferencia Online: https://youtu.be/vpMO7oS7RBM\n\nEl espectador acabará sorprendido al introducirse en un mundo que creía conocer a través de los mitos populares y que presenta una realidad que supera y enriquece la ficción. Olvídense de los pulgares arriba y abajo y de la famosa frase de saludo al emperador y pasen a conocer a los gladiadores como seres humanos con nombres propios\, inmersos en un tiempo y en una época que les idolatraba y odiaba a partes iguales. \nCartel:
URL:https://historico.ateneovalencia.es/evento/gladiadores-mito-y-realidad/
LOCATION:On line
CATEGORIES:Ciclo de Conferencias
ATTACH;FMTTYPE=image/jpeg:https://historico.ateneovalencia.es/wp-content/uploads/2022/02/20220419-Gladiadores-Fernando-Lillo.jpg
END:VEVENT
END:VCALENDAR