BEGIN:VCALENDAR
VERSION:2.0
PRODID:-//Ateneo Mercantil de Valencia - ECPv6.0.4//NONSGML v1.0//EN
CALSCALE:GREGORIAN
METHOD:PUBLISH
X-ORIGINAL-URL:https://historico.ateneovalencia.es
X-WR-CALDESC:Eventos para Ateneo Mercantil de Valencia
REFRESH-INTERVAL;VALUE=DURATION:PT1H
X-Robots-Tag:noindex
X-PUBLISHED-TTL:PT1H
BEGIN:VTIMEZONE
TZID:Europe/Madrid
BEGIN:DAYLIGHT
TZOFFSETFROM:+0100
TZOFFSETTO:+0200
TZNAME:CEST
DTSTART:20220327T010000
END:DAYLIGHT
BEGIN:STANDARD
TZOFFSETFROM:+0200
TZOFFSETTO:+0100
TZNAME:CET
DTSTART:20221030T010000
END:STANDARD
END:VTIMEZONE
BEGIN:VEVENT
DTSTART;TZID=Europe/Madrid:20220411T190000
DTEND;TZID=Europe/Madrid:20220411T203000
DTSTAMP:20260425T182044
CREATED:20220316T073917Z
LAST-MODIFIED:20220321T104556Z
UID:68709-1649703600-1649709000@historico.ateneovalencia.es
SUMMARY:"La Pasión de Cristo: claves de los últimos momentos de la vida de Jesús"
DESCRIPTION:Arranca la Semana Santa 2022 y en el Ateneo Mercantil de Valencia ofrecemos una conferencia muy especial que traerá hasta nuestro Salon de Actos\, el próximo lunes 11 de abril a las 19 horas\, las últimas horas de la vida de Jesús de Nazaret. Una recreación histórica de uno de los momentos claves del cristianismo y que se conmemora cada año en Semana Santa. La conferencia llega bajo el título: "La Pasión de Cristo: claves de los últimos momentos de la vida de Jesús" y el ponente es D. Javier Font Gisbert\, vicepresidente del Centro Español de Sindonología. \nEnlace para ver la conferencia Online: https://youtu.be/4ZDqGT9HyrQ\n\nUna conferencia en la que recrearemos las últimas horas en la vida de Jesús de Nazaret: el monte de los olivos (Getsemaní)\, la última cena\, las tentaciones de Satanás\, la traición de Judas\, su arresto y juzgado por blasfemia en Jerusalén\, las figuras de Pilatos y Herodes\, Barrabás\, su condena a muerte. La Cruz\, el Gólgota\, María\, María Magdalena\, el sufrimiento... \nCartel:
URL:https://historico.ateneovalencia.es/evento/la-pasion-de-cristo-claves-de-los-ultimos-momentos-de-la-vida-de-jesus/
LOCATION:Teatro Ateneo
CATEGORIES:Ciclo Grandes Enigmas de la Humanidad
ATTACH;FMTTYPE=image/jpeg:https://historico.ateneovalencia.es/wp-content/uploads/2022/03/20220411-La-Pasión-de-Cristo.jpg
END:VEVENT
END:VCALENDAR