BEGIN:VCALENDAR
VERSION:2.0
PRODID:-//Ateneo Mercantil de Valencia - ECPv6.0.4//NONSGML v1.0//EN
CALSCALE:GREGORIAN
METHOD:PUBLISH
X-ORIGINAL-URL:https://historico.ateneovalencia.es
X-WR-CALDESC:Eventos para Ateneo Mercantil de Valencia
REFRESH-INTERVAL;VALUE=DURATION:PT1H
X-Robots-Tag:noindex
X-PUBLISHED-TTL:PT1H
BEGIN:VTIMEZONE
TZID:Europe/Madrid
BEGIN:DAYLIGHT
TZOFFSETFROM:+0100
TZOFFSETTO:+0200
TZNAME:CEST
DTSTART:20220327T010000
END:DAYLIGHT
BEGIN:STANDARD
TZOFFSETFROM:+0200
TZOFFSETTO:+0100
TZNAME:CET
DTSTART:20221030T010000
END:STANDARD
END:VTIMEZONE
BEGIN:VEVENT
DTSTART;TZID=Europe/Madrid:20220407T190000
DTEND;TZID=Europe/Madrid:20220407T203000
DTSTAMP:20260425T182047
CREATED:20220316T122145Z
LAST-MODIFIED:20220321T174923Z
UID:68717-1649358000-1649363400@historico.ateneovalencia.es
SUMMARY:Amigos del Mapa: "Vigilancia y seguimiento de la erupción en Cumbre Vieja\, La Palma\, 2021"
DESCRIPTION:Los Amigos del Mapa del Ateneo Mercantil\, después de un largo periodo\, retoman sus encuentros mensuales para hablar de un tema que ha generado y genera mucho interés en la sociedad española. Han preparado un ciclo de conferencias muy interesante "Acercando la Ciencia a la Sociedad Civil" y la primera de las conferencias tratará sobre el volcán de La Palma. \nEnlace para ver la conferencia Online: https://youtu.be/E7tf6chOCtU\n\nAsí\, el próximo jueves 7 de abril\, a las 19 horas y en el Salón de Actos del Ateneo Mercantil de Valencia\,  en colaboración con el Instituto Geográfico Nacional y la Universidad Politécnica de Valencia\, arrancan con la conferencia "Vigilancia y seguimiento de la erupción en Cumbre Vieja\, La Palma\, 2021" y lo harán conversando con la Dra. Carmen López Moreno\, Doctora en Ciencias de la Tierra por la Universidad de Barcelona\, funcionaria del MITMA y responsable de la Unidad de Vigilancia volcánica del IGN desde 2005. Ellas es una de las expertas más cualificadas en materia de vulcanologia y sismos\, quien ha vivido desde el primer momento el tema de la erupción volcánica en La Palma. \nCurriculum:\n\nDoctora en Ciencias de la Tierra\, Universidad de Barcelona\nIngeniera Geográfica del MITMA\, actualmente trabaja en el Instituto Geográfico Nacional (IGN). Licenciada en Física\, Doctora en Ciencias de la Tierra (Universidad de Barcelona).\nResponsable de la Red Nacional de Vigilancia y Alerta de Riesgos Volcánicos de España\, miembro de los Comités Científico de Protección Civil de Canarias y Nacional. Responsable de la Unidad de Vigilancia Volcánica del IGN desde 2005.\nParticipación en las crisis eruptivas de 2011 en El Hierro y 2021 en La Palma\, formando parte del Comité Científico de Protección Civil de Canarias y en el Comité Científico del Plan Estatal de Protección Civil y Emergencias del Gobierno de España.\nSus campos de especialización incluyen el análisis de la actividad sísmica-volcánica y el estudio de la dinámica eruptiva.\nAutora de trabajos en revistas científicas internacionales y participación en Proyectos Europeos y Nacionales que abarcan desde el estudio de la dinámica de sistemas volcánicos activos hasta la evaluación de peligros y gestión de riesgos asociados.\n\nCartel:
URL:https://historico.ateneovalencia.es/evento/amigos-del-mapa-vigilancia-y-seguimiento-de-la-erupcion-en-cumbre-vieja-la-palma-2021/
LOCATION:Teatro Ateneo
CATEGORIES:Amigos del Mapa
ATTACH;FMTTYPE=image/jpeg:https://historico.ateneovalencia.es/wp-content/uploads/2022/03/20220407-El-Volcan-de-La-Palma.jpg
END:VEVENT
END:VCALENDAR