BEGIN:VCALENDAR
VERSION:2.0
PRODID:-//Ateneo Mercantil de Valencia - ECPv6.0.4//NONSGML v1.0//EN
CALSCALE:GREGORIAN
METHOD:PUBLISH
X-WR-CALNAME:Ateneo Mercantil de Valencia
X-ORIGINAL-URL:https://historico.ateneovalencia.es
X-WR-CALDESC:Eventos para Ateneo Mercantil de Valencia
REFRESH-INTERVAL;VALUE=DURATION:PT1H
X-Robots-Tag:noindex
X-PUBLISHED-TTL:PT1H
BEGIN:VTIMEZONE
TZID:Europe/Madrid
BEGIN:DAYLIGHT
TZOFFSETFROM:+0100
TZOFFSETTO:+0200
TZNAME:CEST
DTSTART:20220327T010000
END:DAYLIGHT
BEGIN:STANDARD
TZOFFSETFROM:+0200
TZOFFSETTO:+0100
TZNAME:CET
DTSTART:20221030T010000
END:STANDARD
END:VTIMEZONE
BEGIN:VEVENT
DTSTART;TZID=Europe/Madrid:20220329T190000
DTEND;TZID=Europe/Madrid:20220329T203000
DTSTAMP:20260425T182025
CREATED:20211214T141707Z
LAST-MODIFIED:20220127T085657Z
UID:66190-1648580400-1648585800@historico.ateneovalencia.es
SUMMARY:"La Pirámide de Chichén-Itzá: El corazón del Imperio Maya"
DESCRIPTION:El Ciclo Maravillas del Mundo Antiguo y Moderno regresa al Ateneo Mercantil con una conferencia muy esperada por todos\, ya que el próximo martes 29 de marzo a las 19 horas llega el Prof. Dr. Adolfo Alonso Durá\, Doctor Arquitecto\, Mecánica de los Medios Continuos y Teoría de Estructuras y Profesor Titular de Cálculo de Estructuras en UPV con la ponencia sobre la "Pirámide de Chichén-Itzá: El corazón del Imperio Maya". Una conferencia que podrá seguirse manera presencial en nuestro Salón de Actos y también por nuestro canal de YouTube en directo\, además de por FacebookLive y Zoom. \nEnlace para la Conferencia en Directo: https://youtu.be/sK6615mywQs\n\nLa pirámide de Chichén-Itzá\, también conocida como la de Kukulcán\, se eleva con precisión geométrica en medio de una explanada que hace mil años fue el centro político\, religioso y cultural del imperio maya. Chichén Itzá significa "boca del pozo de los itzaes"\, en alusión al cenote situado al norte de la pirámide y que era considerado un enclave sagrado\, además de una fuente de agua dulce esencial para aquella ciudad de templos y sabios astrónomos. \nEl recinto arqueológico ocupa 15 km2\, es Patrimonio de la Humanidad desde 1998 y constituye uno de los testimonios mejor preservados de la civilización maya. \nCartel:
URL:https://historico.ateneovalencia.es/evento/la-piramide-de-chichen-itza-el-corazon-del-imperio-maya/
LOCATION:Teatro Ateneo
CATEGORIES:Ciclo Maravillas del Mundo Antiguo y Moderno
ATTACH;FMTTYPE=image/jpeg:https://historico.ateneovalencia.es/wp-content/uploads/2021/12/20220113-Piramide-Chichen-Itza-1.jpg
END:VEVENT
END:VCALENDAR