BEGIN:VCALENDAR
VERSION:2.0
PRODID:-//Ateneo Mercantil de Valencia - ECPv6.0.4//NONSGML v1.0//EN
CALSCALE:GREGORIAN
METHOD:PUBLISH
X-WR-CALNAME:Ateneo Mercantil de Valencia
X-ORIGINAL-URL:https://historico.ateneovalencia.es
X-WR-CALDESC:Eventos para Ateneo Mercantil de Valencia
REFRESH-INTERVAL;VALUE=DURATION:PT1H
X-Robots-Tag:noindex
X-PUBLISHED-TTL:PT1H
BEGIN:VTIMEZONE
TZID:Europe/Madrid
BEGIN:DAYLIGHT
TZOFFSETFROM:+0100
TZOFFSETTO:+0200
TZNAME:CEST
DTSTART:20220327T010000
END:DAYLIGHT
BEGIN:STANDARD
TZOFFSETFROM:+0200
TZOFFSETTO:+0100
TZNAME:CET
DTSTART:20221030T010000
END:STANDARD
END:VTIMEZONE
BEGIN:VEVENT
DTSTART;TZID=Europe/Madrid:20220228T190000
DTEND;TZID=Europe/Madrid:20220228T203000
DTSTAMP:20260425T182027
CREATED:20211029T103234Z
LAST-MODIFIED:20220225T110557Z
UID:65476-1646074800-1646080200@historico.ateneovalencia.es
SUMMARY:Ciclo Maravillas del Mundo Antiguo y Moderno: "La Acrópolis de Atenas"
DESCRIPTION:El Ciclo Maravillas del Mundo Antiguo y Moderno regresa al Ateneo Mercantil con la conferencia "La Acrópolis de Atenas" el próximo lunes 28 de febrero a las 19 horas en el Salón de Actos. El ponente será el afamado historiador y escritor\, D. Antonio Penadés. \nEnlace de YouTube para Online: https://youtu.be/mxKNc-HfVNQ\nLa Acrópolis de Atenas\, conocida como "la roca sagrada"\, es la joya de la Grecia clásica. Sus templos han maravillado al mundo durante siglos y han dejado constancia de la Edad de Oro de la capital ateniense (siglo V a.C.)\, cuando en ella confluían arte\, riqueza y democracia. Sucedía todo bajo la batuta del estadista Pericles\, a quien se debe esta maravilla monumental. El astuto político\, gobernante de Atenas entre el 461 y el 429 a.C.\, desvió fondos del tesoro público para reconstruir la Acrópolis\, arrasada por los persas el año 480 a.C. La colina de Atenas sobre la que se emplaza\, habitada desde la Antigüedad\, pronto se convirtió en un lugar sagrado\, visible desde toda la ciudad. \nEn la conferencia se realizará un recorrido que irá desde el Neolítico hasta la reconstrucción actual del Partenón. Se tratará también la reivindicación de Grecia sobre las esculturas que Elgin arrancó de los templos y trasladó a Gran Bretaña entre 1801 y 1805... \nCartel
URL:https://historico.ateneovalencia.es/evento/ciclo-maravillas-del-mundo-antiguo-y-moderno-la-acropolis-de-atenas/
LOCATION:Teatro Ateneo
CATEGORIES:Ciclo Maravillas del Mundo Antiguo y Moderno
ATTACH;FMTTYPE=image/jpeg:https://historico.ateneovalencia.es/wp-content/uploads/2021/10/20211109-Acropolis-Atenas.jpg
END:VEVENT
END:VCALENDAR