BEGIN:VCALENDAR
VERSION:2.0
PRODID:-//Ateneo Mercantil de Valencia - ECPv6.0.4//NONSGML v1.0//EN
CALSCALE:GREGORIAN
METHOD:PUBLISH
X-WR-CALNAME:Ateneo Mercantil de Valencia
X-ORIGINAL-URL:https://historico.ateneovalencia.es
X-WR-CALDESC:Eventos para Ateneo Mercantil de Valencia
REFRESH-INTERVAL;VALUE=DURATION:PT1H
X-Robots-Tag:noindex
X-PUBLISHED-TTL:PT1H
BEGIN:VTIMEZONE
TZID:Europe/Madrid
BEGIN:DAYLIGHT
TZOFFSETFROM:+0100
TZOFFSETTO:+0200
TZNAME:CEST
DTSTART:20220327T010000
END:DAYLIGHT
BEGIN:STANDARD
TZOFFSETFROM:+0200
TZOFFSETTO:+0100
TZNAME:CET
DTSTART:20221030T010000
END:STANDARD
END:VTIMEZONE
BEGIN:VEVENT
DTSTART;TZID=Europe/Madrid:20220214T183000
DTEND;TZID=Europe/Madrid:20220214T183000
DTSTAMP:20260425T221733
CREATED:20220113T163942Z
LAST-MODIFIED:20220209T152249Z
UID:66572-1644863400-1644863400@historico.ateneovalencia.es
SUMMARY:"La Segunda Republica Española\, del Frente Popular al Día de la Victoria"
DESCRIPTION:El Frente Popular consiguió la victoria en las elecciones del 16 de febrero del 36. Azaña se convirtió en presidente del gobierno. Los socialistas\, sin participar en el gobierno\, lo sostuvieron. El Ciclo de Conferencias llega el próximo lunes 14 de febrero a las 19 horas en el Salón de Actos con la segunda conferencia sobre la Segunda República Española\, en esta ocasión José Luis Climent\, fundador de la Tertulia Histórica del Ateneo Mercantil\, trae "La Segunda Republica Española\, del Frente Popular al Día de la Victoria". \nEnlace para la conferencia Online: https://youtu.be/4Lbx0rz5glk\n\nEn diciembre de 1935\, después de una nueva crisis ministerial\, el presidente de la República decide disolver las Cortes. Se fijaron nuevas elecciones para el 16 de febrero de 1936. Unas elecciones que ganó el Frente Popular con un programa que había sido firmado por dos partidos burgueses\, la Izquierda Republicana de Azaña y la Unión Republicana de Martínez Barrio\, así como el PCE\, PSOE\, JS\, UGT y el POUM. \nLa conferencia desgranará todos los acontecimientos vividos desde la victoria del Frente Popular hasta el Día de la Victoria. Aquel 1 de abril de 1939 cuando Francisco Franco firmó el último parte de la Guerra Civil española con el famoso: "En el día de hoy\, cautivo y desarmado el Ejército Rojo\, han alcanzado las tropas nacionales sus últimos objetivos militares. La guerra ha terminado". \nCartel:\n \n  \n 
URL:https://historico.ateneovalencia.es/evento/la-segunda-republica-espanola-del-frente-popular-al-dia-de-la-victoria/
LOCATION:Teatro Ateneo
CATEGORIES:Ciclo de Conferencias
ATTACH;FMTTYPE=image/jpeg:https://historico.ateneovalencia.es/wp-content/uploads/2022/01/20220214-Segunda-Republica-Frente-Popular-1.jpg
END:VEVENT
END:VCALENDAR