BEGIN:VCALENDAR
VERSION:2.0
PRODID:-//Ateneo Mercantil de Valencia - ECPv6.0.4//NONSGML v1.0//EN
CALSCALE:GREGORIAN
METHOD:PUBLISH
X-ORIGINAL-URL:https://historico.ateneovalencia.es
X-WR-CALDESC:Eventos para Ateneo Mercantil de Valencia
REFRESH-INTERVAL;VALUE=DURATION:PT1H
X-Robots-Tag:noindex
X-PUBLISHED-TTL:PT1H
BEGIN:VTIMEZONE
TZID:Europe/Madrid
BEGIN:DAYLIGHT
TZOFFSETFROM:+0100
TZOFFSETTO:+0200
TZNAME:CEST
DTSTART:20220327T010000
END:DAYLIGHT
BEGIN:STANDARD
TZOFFSETFROM:+0200
TZOFFSETTO:+0100
TZNAME:CET
DTSTART:20221030T010000
END:STANDARD
END:VTIMEZONE
BEGIN:VEVENT
DTSTART;TZID=Europe/Madrid:20220208T173000
DTEND;TZID=Europe/Madrid:20220208T190000
DTSTAMP:20260426T050608
CREATED:20211213T154033Z
LAST-MODIFIED:20220202T083908Z
UID:66138-1644341400-1644346800@historico.ateneovalencia.es
SUMMARY:"La pintura de Diego Velázquez"
DESCRIPTION:El Ateneo Mercantil de Valencia ha programado un serial de conferencias con D. Amando García en la que se tocarán diversos temas en los que es especialista. Será una conferencia que se podrá seguir de manera online tanto por el Canal de YouTube del Ateneo como por FacebookLive y que se celebrará en el Salón de Actos del Ateneo Mercanil. En esta ocasión\, el próximo martes 8 de febrero a las 17.30 horas\, hablará largo y tendido de "La pintura de Diego Velázquez". \nEnlace de YouTube para Online: https://youtu.be/EU5H6ekz8o0\n\nVelázquez fue el gran artista barroco\, el mejor en el Siglo de Oro español\, considerado por muchos como el pintor más talentoso de todos los tiempos. Su importancia comenzó a ser reconocida dos siglos después de su muerte y sus obras más destacadas son actualmente parte de la colección permanente del Museo del Prado\, en Madrid. Las Meninas\, El triunfo de Baco\, La fábula de Aracne\, Adoración de los Magos\, El bufón don Sebastián de Morra\, Coronación de la Virgen\, Cabeza de apóstol\, Cabeza de venado... todas son obras maestras. \nCartel:\n \n 
URL:https://historico.ateneovalencia.es/evento/la-pintura-de-diego-velazquez/
LOCATION:Teatro Ateneo
CATEGORIES:Ciclo de Conferencias
ATTACH;FMTTYPE=image/jpeg:https://historico.ateneovalencia.es/wp-content/uploads/2021/12/20220208-Pintura-Diego-Velazquez.jpg
END:VEVENT
END:VCALENDAR