BEGIN:VCALENDAR
VERSION:2.0
PRODID:-//Ateneo Mercantil de Valencia - ECPv6.0.4//NONSGML v1.0//EN
CALSCALE:GREGORIAN
METHOD:PUBLISH
X-ORIGINAL-URL:https://historico.ateneovalencia.es
X-WR-CALDESC:Eventos para Ateneo Mercantil de Valencia
REFRESH-INTERVAL;VALUE=DURATION:PT1H
X-Robots-Tag:noindex
X-PUBLISHED-TTL:PT1H
BEGIN:VTIMEZONE
TZID:Europe/Madrid
BEGIN:DAYLIGHT
TZOFFSETFROM:+0100
TZOFFSETTO:+0200
TZNAME:CEST
DTSTART:20210328T010000
END:DAYLIGHT
BEGIN:STANDARD
TZOFFSETFROM:+0200
TZOFFSETTO:+0100
TZNAME:CET
DTSTART:20211031T010000
END:STANDARD
END:VTIMEZONE
BEGIN:VEVENT
DTSTART;TZID=Europe/Madrid:20211223T190000
DTEND;TZID=Europe/Madrid:20211223T203000
DTSTAMP:20260425T233550
CREATED:20211130T095407Z
LAST-MODIFIED:20211219T073805Z
UID:66044-1640286000-1640291400@historico.ateneovalencia.es
SUMMARY:Ciclo de Conferencias: "La convulsión de la Germanía y sus ramificaciones artísticas"
DESCRIPTION:El Ciclo de Conferencias nos trae el próximo jueves 23 de diciembre a las 19 horas en el Salón de Actos del Ateneo Mercantil una disertación sobre la Germanía\, pero esta vez se concretará en los grandes cambios artísticos que se llevaron a cabo en aquella convulsa época. La conferencia llega con el título "La convulsión de la Germanía y sus ramificaciones artísticas" y correrá a cargo del catedrático en Historia del Arte por la Universitat de València\, D. Luis Arciniega. \nEnlace para la Conferencia en Directo: https://youtu.be/jIQFajxnxgo\nSe cumple el V centenario de la Germanía (1519-1522)\, un complejo movimiento social y político en el Reino de Valencia\, que\, con sesgo distinto\, pero en fechas cercanas\, tuvieron también lugar en Castilla (1520-1522) y la Germanía de Mallorca (1521-1523). Conflictos sociales que convulsionaron Europa a lo largo del primer cuarto del siglo XVI. \nConoce los antecedentes\, acontecimientos y consecuencias de estas grandes conmociones ibéricas y europeas en el arte\, la arquitectura y la cultura visual\, que servirá para calibrar la singularidad de la revuelta valenciana y sus puntos en común con levantamientos contemporáneos en España y en Europa. Este periodo es un punto de inflexión en los grandes cambios artísticos que evalúan el impacto de la guerra\, la agitación social y política\, y de los disturbios religiosos en el arte y la arquitectura. \nCartel:\n \n 
URL:https://historico.ateneovalencia.es/evento/ciclo-de-conferencias-la-convulsion-de-la-germania-y-sus-ramificaciones-artisticas/
LOCATION:Teatro Ateneo
CATEGORIES:Ciclo de Conferencias
ATTACH;FMTTYPE=image/jpeg:https://historico.ateneovalencia.es/wp-content/uploads/2021/11/20211223-Germania-y-Arte-1.jpg
END:VEVENT
END:VCALENDAR