BEGIN:VCALENDAR
VERSION:2.0
PRODID:-//Ateneo Mercantil de Valencia - ECPv6.0.4//NONSGML v1.0//EN
CALSCALE:GREGORIAN
METHOD:PUBLISH
X-WR-CALNAME:Ateneo Mercantil de Valencia
X-ORIGINAL-URL:https://historico.ateneovalencia.es
X-WR-CALDESC:Eventos para Ateneo Mercantil de Valencia
REFRESH-INTERVAL;VALUE=DURATION:PT1H
X-Robots-Tag:noindex
X-PUBLISHED-TTL:PT1H
BEGIN:VTIMEZONE
TZID:Europe/Madrid
BEGIN:DAYLIGHT
TZOFFSETFROM:+0100
TZOFFSETTO:+0200
TZNAME:CEST
DTSTART:20210328T010000
END:DAYLIGHT
BEGIN:STANDARD
TZOFFSETFROM:+0200
TZOFFSETTO:+0100
TZNAME:CET
DTSTART:20211031T010000
END:STANDARD
END:VTIMEZONE
BEGIN:VEVENT
DTSTART;TZID=Europe/Madrid:20211202T190000
DTEND;TZID=Europe/Madrid:20211202T203000
DTSTAMP:20260426T050445
CREATED:20211020T093747Z
LAST-MODIFIED:20211201T093925Z
UID:65405-1638471600-1638477000@historico.ateneovalencia.es
SUMMARY:Ciclo de Conferencias: "Sirenas griegas\, ¿cómo surgió la leyenda de las sirenas"
DESCRIPTION:El Ciclo de Conferencias llega con una buena ponencia sobre mitología y sobre la Grecia Antigua. El próximo martes 2 de diciembre a las 19 horas se celebrará una conferencia online sobre las Sirenas Griegas con la escritora e historiadora\, Laura Mas. La ponencia se titula "Sirenas griegas\, ¿cómo surgió la leyenda de las sirenas" y se podrá seguir en directo por el canal de Youtube del Ateneo\, por la plataforma zoomm y por Facebook Live. Mitad mujer\, mitad pez. ¿Dónde y cómo surgió la leyenda de las sirenas? Sus orígenes son difusos\, aunque resulta muy probable que estos seres hermosos y pérfidos estuviesen relacionados con el mundo de los muertos. \nEnlace del directo de Youtube: https://youtu.be/0iGAQLwpRBI\nEnlace Zoom: https://us06web.zoom.us/j/85839044808\nEn la mitología griega\, las sirenas eran criaturas híbridas con cuerpo de ave y rostro de mujer que atraían a los marineros con sus hipnóticos cantos\, conduciéndolos a un destino fatal. Homero las mencionó por primera vez en su célebre Odisea\, dando paso a infinidad de leyendas e historias fabulosas. \nLa imagen que tenemos en la actualidad de las sirenas —mitad mujer\, mitad pez— dista mucho de su forma clásica alada. Algunas versiones afirman que la apariencia original de estos seres mitológicos se debe a un castigo que recibieron por no proteger a Perséfone de Hades\, el dios del inframundo. Otras\, en cambio\, indican que fue Zeus quien les ofreció alas para perseguir al dios raptor. Pero\, ¿de dónde surgieron exactamente las sirenas? Aunque sus orígenes son difusos\, es muy probable que estos seres hermosos y pérfidos estuviesen relacionados con el mundo de los muertos. \nCartel:
URL:https://historico.ateneovalencia.es/evento/ciclo-de-conferencias-sirenas-griegas-como-surgio-la-leyenda-de-las-sirenas/
LOCATION:On line
CATEGORIES:Ciclo de Conferencias
ATTACH;FMTTYPE=image/jpeg:https://historico.ateneovalencia.es/wp-content/uploads/2021/10/20211130-Las-Sirenas-Griegas.jpg
END:VEVENT
END:VCALENDAR