BEGIN:VCALENDAR
VERSION:2.0
PRODID:-//Ateneo Mercantil de Valencia - ECPv6.0.4//NONSGML v1.0//EN
CALSCALE:GREGORIAN
METHOD:PUBLISH
X-ORIGINAL-URL:https://historico.ateneovalencia.es
X-WR-CALDESC:Eventos para Ateneo Mercantil de Valencia
REFRESH-INTERVAL;VALUE=DURATION:PT1H
X-Robots-Tag:noindex
X-PUBLISHED-TTL:PT1H
BEGIN:VTIMEZONE
TZID:Europe/Madrid
BEGIN:DAYLIGHT
TZOFFSETFROM:+0100
TZOFFSETTO:+0200
TZNAME:CEST
DTSTART:20200329T010000
END:DAYLIGHT
BEGIN:STANDARD
TZOFFSETFROM:+0200
TZOFFSETTO:+0100
TZNAME:CET
DTSTART:20201025T010000
END:STANDARD
END:VTIMEZONE
BEGIN:VEVENT
DTSTART;TZID=Europe/Madrid:20201022T190000
DTEND;TZID=Europe/Madrid:20201022T210000
DTSTAMP:20260424T130644
CREATED:20200918T100143Z
LAST-MODIFIED:20201008T073725Z
UID:59991-1603393200-1603400400@historico.ateneovalencia.es
SUMMARY:Ciclo Centenario de la Muerte de Galdós: "Galdós humano"
DESCRIPTION:Primera de las tres conferencias programadas en el Ateneo Mercantil de Valencia para celebrar el centenario de la muerte del escritor Benito Pérez Galdós. Así el próximo jueves 22 de octubre a las 19 horas se podrá seguir la conferencia tanto de manera presencial en el Salón Stolz como de modo Online (pinchando en el enlace que se adjunta abajo); la ponencia llega bajo el título: "Galdós humano" y correrá a cargo del escritor y poeta tinerfeño\, D. Fernando G. Delgado. El también periodista fue jefe de programas generales de Radio Exterior de España\, primer director de Radio 3\, dos veces director de Radio Nacional de España\, consejero de Administración de RTVE por elección parlamentaria y director general de Tele Expo en la Exposición Universal de Sevilla de 1992. \nEnlace Conferencia Online: https://zoom.us/j/97561629879\nEl perfil de Galdós fue el de hombre político\, con una deriva hacia el republicanismo; los amores con doña Emilia Pardo-Bazán y con la madre de su única hija; su papel como renovador del teatro español; la gran despedida nacional que se le dispensó tras su muerte; y el posterior silenciamiento de una figura magna de nuestras letras que\, actualmente\, vuelve a ser revisitada por escritores y escritoras actuales muy relevantes. \nCartel:\n \n 
URL:https://historico.ateneovalencia.es/evento/ciclo-centenario-de-la-muerte-de-galdos-galdos-humano/
LOCATION:Salón Stolz - Ateneo Mercantil de Valencia\, Plaza del Ayuntamiento\, 18\, Valencia\, España\, Valencia\, Valencia\, 46002\, España
CATEGORIES:Ciclo Pérez Galdós Centenario
ATTACH;FMTTYPE=image/jpeg:https://historico.ateneovalencia.es/wp-content/uploads/2020/09/20201022-Galdos-Humano.jpg
END:VEVENT
END:VCALENDAR