BEGIN:VCALENDAR
VERSION:2.0
PRODID:-//Ateneo Mercantil de Valencia - ECPv6.0.4//NONSGML v1.0//EN
CALSCALE:GREGORIAN
METHOD:PUBLISH
X-ORIGINAL-URL:https://historico.ateneovalencia.es
X-WR-CALDESC:Eventos para Ateneo Mercantil de Valencia
REFRESH-INTERVAL;VALUE=DURATION:PT1H
X-Robots-Tag:noindex
X-PUBLISHED-TTL:PT1H
BEGIN:VTIMEZONE
TZID:Europe/Madrid
BEGIN:DAYLIGHT
TZOFFSETFROM:+0100
TZOFFSETTO:+0200
TZNAME:CEST
DTSTART:20210328T010000
END:DAYLIGHT
BEGIN:STANDARD
TZOFFSETFROM:+0200
TZOFFSETTO:+0100
TZNAME:CET
DTSTART:20211031T010000
END:STANDARD
END:VTIMEZONE
BEGIN:VEVENT
DTSTART;TZID=Europe/Madrid:20210610T173000
DTEND;TZID=Europe/Madrid:20210610T190000
DTSTAMP:20260423T215028
CREATED:20210607T144544Z
LAST-MODIFIED:20210607T144544Z
UID:64274-1623346200-1623351600@historico.ateneovalencia.es
SUMMARY:Ciclo Paseos virtuales por la historia y el arte de la ciudad de Valencia: Barrios del Este I
DESCRIPTION:Décimo quinta sesión del nuevo ciclo que llega al Ateneo Mercantil de Valencia sobre "Paseos virtuales por la historia y el arte de la ciudad de Valencia". En esta conferencia se tratarán los "Barrios del Este I" y de nuevo actuará de ponente D. Amando García\, que es catedrático de Física e Historiador del Arte. \nEnlace para la conferencia Online: https://zoom.us/j/92736104383\nUna conferencia en presencial y en on-line que será el próximo jueves 10 de junio a las 17.30 horas y en la que se focalizará en la historia y en el arte en los barrios del este de la ciudad de Valencia. Seguirá por los barrios de los Poblados Marítimos como El Grao\, Cabañal-Cañamelar\, Malvarrosa\, Beteró y Nazaret\, los Caminos al Grau como Ayora\, Albors\, La Creu del Grau\, Camí Fondo y Penya-Roja\, además\, de parte de los barrios de Algirós\, la Vega Baixa y de Benimaclet hasta el Camí de Vera. En la imagen podemos observar el Colegio Mayor Luis Vives que está en Blasco Ibáñez. \nCartel:
URL:https://historico.ateneovalencia.es/evento/ciclo-paseos-virtuales-por-la-historia-y-el-arte-de-la-ciudad-de-valencia-barrios-del-este-i/
LOCATION:Salón Stolz - Ateneo Mercantil de Valencia\, Plaza del Ayuntamiento\, 18\, Valencia\, España\, Valencia\, Valencia\, 46002\, España
CATEGORIES:Ciclo Paseos Virtuales por la Arquitectura de la Ciudad
ATTACH;FMTTYPE=image/jpeg:https://historico.ateneovalencia.es/wp-content/uploads/2021/06/20210610-Barrios-del-Este-I-Paseos-Valencia_.jpg
END:VEVENT
END:VCALENDAR