BEGIN:VCALENDAR
VERSION:2.0
PRODID:-//Ateneo Mercantil de Valencia - ECPv6.0.4//NONSGML v1.0//EN
CALSCALE:GREGORIAN
METHOD:PUBLISH
X-ORIGINAL-URL:https://historico.ateneovalencia.es
X-WR-CALDESC:Eventos para Ateneo Mercantil de Valencia
REFRESH-INTERVAL;VALUE=DURATION:PT1H
X-Robots-Tag:noindex
X-PUBLISHED-TTL:PT1H
BEGIN:VTIMEZONE
TZID:Europe/Madrid
BEGIN:DAYLIGHT
TZOFFSETFROM:+0100
TZOFFSETTO:+0200
TZNAME:CEST
DTSTART:20210328T010000
END:DAYLIGHT
BEGIN:STANDARD
TZOFFSETFROM:+0200
TZOFFSETTO:+0100
TZNAME:CET
DTSTART:20211031T010000
END:STANDARD
END:VTIMEZONE
BEGIN:VEVENT
DTSTART;TZID=Europe/Madrid:20210511T173000
DTEND;TZID=Europe/Madrid:20210511T190000
DTSTAMP:20260423T215025
CREATED:20210430T112026Z
LAST-MODIFIED:20210503T081907Z
UID:23197-1620754200-1620759600@historico.ateneovalencia.es
SUMMARY:Ciclo Paseos Virtuales por la Ciudad de Valencia: Barrios del Sur I
DESCRIPTION:Décimo tercera sesión del nuevo ciclo que llega al Ateneo Mercantil de Valencia sobre "Paseos virtuales por la historia y el arte de la ciudad de Valencia". En esta conferencia se tratarán los "Barrios del Sur I" y de nuevo actuará de ponente D. Amando García\, que es catedrático de Física e Historiador del Arte. \nEnlace para la conferencia Online: https://zoom.us/j/92998118149\n\nUna conferencia presencial y Online que será el próximo martes 11 de mayo a las 17.30 horas en el Salón Stolz y en la que se focalizará en la historia y en el arte en los barrios del suir de la ciudad de Valencia. Seguirá por los barrios del 'Pla del Remei'\, Ruzafa y Gran Vía. Se analizarán los principales monumentos y se contextualizará con la época. Destacan en estos barrios el Mercado de Colón\, Casa Chapa y Casa de los Dragones\, el Mercado de Ruzafa\, entre muchas otras edificaciones. \nCartel:
URL:https://historico.ateneovalencia.es/evento/ciclo-paseos-virtuales-por-la-ciudad-de-valencia-barrios-del-sur-i/
LOCATION:Salón Stolz - Ateneo Mercantil de Valencia\, Plaza del Ayuntamiento\, 18\, Valencia\, España\, Valencia\, Valencia\, 46002\, España
CATEGORIES:Ciclo Paseos Virtuales por la Arquitectura de la Ciudad
ATTACH;FMTTYPE=image/jpeg:https://historico.ateneovalencia.es/wp-content/uploads/2021/04/20210511-Paseos-Virtuales-Sur-Mercado-de-Colon.jpg
END:VEVENT
END:VCALENDAR