BEGIN:VCALENDAR
VERSION:2.0
PRODID:-//Ateneo Mercantil de Valencia - ECPv6.0.4//NONSGML v1.0//EN
CALSCALE:GREGORIAN
METHOD:PUBLISH
X-WR-CALNAME:Ateneo Mercantil de Valencia
X-ORIGINAL-URL:https://historico.ateneovalencia.es
X-WR-CALDESC:Eventos para Ateneo Mercantil de Valencia
REFRESH-INTERVAL;VALUE=DURATION:PT1H
X-Robots-Tag:noindex
X-PUBLISHED-TTL:PT1H
BEGIN:VTIMEZONE
TZID:Europe/Madrid
BEGIN:DAYLIGHT
TZOFFSETFROM:+0100
TZOFFSETTO:+0200
TZNAME:CEST
DTSTART:20210328T010000
END:DAYLIGHT
BEGIN:STANDARD
TZOFFSETFROM:+0200
TZOFFSETTO:+0100
TZNAME:CET
DTSTART:20211031T010000
END:STANDARD
END:VTIMEZONE
BEGIN:VEVENT
DTSTART;TZID=Europe/Madrid:20210218T173000
DTEND;TZID=Europe/Madrid:20210218T190000
DTSTAMP:20260423T101658
CREATED:20210104T131337Z
LAST-MODIFIED:20210215T104847Z
UID:61659-1613669400-1613674800@historico.ateneovalencia.es
SUMMARY:Ciclo Paseos Virtuales  por la historia y el arte en la ciudad de Valencia: Centro Histórico VIII
DESCRIPTION:Octava sesión del nuevo ciclo que llega al Ateneo Mercantil de Valencia sobre "Paseos virtuales por la historia y el arte de la ciudad de Valencia". En esta conferencia se tratará el "Centro Histórico VIII" y de nuevo actuará de ponente D. Amando García\, que es catedrático de Física e Historiador del Arte. \nEnlace para la conferencia Online: https://zoom.us/j/99826664200\nUna conferencia on-line que será el próximo jueves 18 de febrero a las 17.30 horas y en la que se focalizará en la historia y en el arte en pleno corazón del Cap i Casal\, en el distrito de Ciutat Vella\, con un paseo por la Plaza del Ayuntamiento\, con el Ayuntamiento\, el edificio de Correos\, la Estación del Norte... en la que se analizarán los principales monumentos y se contextualizará con la época. \nCartel:
URL:https://historico.ateneovalencia.es/evento/ciclo-paseos-virtuales-por-la-historia-y-el-arte-en-la-ciudad-de-valencia-centro-historico-viii/
LOCATION:On line
CATEGORIES:Ciclo Paseos Virtuales por la Arquitectura de la Ciudad
ATTACH;FMTTYPE=image/jpeg:https://historico.ateneovalencia.es/wp-content/uploads/2021/01/20210218-Paseos-Virtuales-VII.jpg
END:VEVENT
END:VCALENDAR