BEGIN:VCALENDAR
VERSION:2.0
PRODID:-//Ateneo Mercantil de Valencia - ECPv6.0.4//NONSGML v1.0//EN
CALSCALE:GREGORIAN
METHOD:PUBLISH
X-ORIGINAL-URL:https://historico.ateneovalencia.es
X-WR-CALDESC:Eventos para Ateneo Mercantil de Valencia
REFRESH-INTERVAL;VALUE=DURATION:PT1H
X-Robots-Tag:noindex
X-PUBLISHED-TTL:PT1H
BEGIN:VTIMEZONE
TZID:Europe/Madrid
BEGIN:DAYLIGHT
TZOFFSETFROM:+0100
TZOFFSETTO:+0200
TZNAME:CEST
DTSTART:20200329T010000
END:DAYLIGHT
BEGIN:STANDARD
TZOFFSETFROM:+0200
TZOFFSETTO:+0100
TZNAME:CET
DTSTART:20201025T010000
END:STANDARD
END:VTIMEZONE
BEGIN:VEVENT
DTSTART;TZID=Europe/Madrid:20201215T173000
DTEND;TZID=Europe/Madrid:20201215T190000
DTSTAMP:20260423T125752
CREATED:20201013T094133Z
LAST-MODIFIED:20201123T102352Z
UID:60373-1608053400-1608058800@historico.ateneovalencia.es
SUMMARY:Ciclo Paseos virtuales por la historia y el arte en la ciudad de Valencia: "Centro Histórico IV"
DESCRIPTION:Cuarta sesión del nuevo ciclo que llega al Ateneo Mercantil de Valencia sobre "Paseos virtuales por la historia y el arte de la ciudad de Valencia". En esta cuarta conferencia se tratará el "Centro Histórico IV" y de nuevo actuará de ponente D. Amando García\, que es catedrático de Física e Historiador del Arte. \nEnlace la conferencia Online: https://zoom.us/j/98595049990\nUna conferencia que será el próximo marte 15 de diciembre a las 17.30 horas en el Salón Stolz y en la que se focalizará en la historia y en el arte en pleno corazón del Cap i Casal\, en el distrito de Ciutat Vella\, delimitando con Extramurs\, con un paseo por la calle Quart\, la parroquia de San Nicolás\, el Real Colegio de las Escuelas Pías... en la que se analizarán los principales monumentos y se contextualizará con la época: en la imagen las Torres de Quart. \nCartel:
URL:https://historico.ateneovalencia.es/evento/ciclo-paseos-virtuales-por-la-historia-y-el-arte-en-la-ciudad-de-valencia-centro-historico-iv/
LOCATION:Salón Stolz - Ateneo Mercantil de Valencia\, Plaza del Ayuntamiento\, 18\, Valencia\, España\, Valencia\, Valencia\, 46002\, España
CATEGORIES:Ciclo Paseos Virtuales por la Arquitectura de la Ciudad
ATTACH;FMTTYPE=image/jpeg:https://historico.ateneovalencia.es/wp-content/uploads/2020/10/20201209-Paseos-Virtuales-4.jpg
END:VEVENT
END:VCALENDAR