BEGIN:VCALENDAR
VERSION:2.0
PRODID:-//Ateneo Mercantil de Valencia - ECPv6.0.4//NONSGML v1.0//EN
CALSCALE:GREGORIAN
METHOD:PUBLISH
X-ORIGINAL-URL:https://historico.ateneovalencia.es
X-WR-CALDESC:Eventos para Ateneo Mercantil de Valencia
REFRESH-INTERVAL;VALUE=DURATION:PT1H
X-Robots-Tag:noindex
X-PUBLISHED-TTL:PT1H
BEGIN:VTIMEZONE
TZID:Europe/Madrid
BEGIN:DAYLIGHT
TZOFFSETFROM:+0100
TZOFFSETTO:+0200
TZNAME:CEST
DTSTART:20210328T010000
END:DAYLIGHT
BEGIN:STANDARD
TZOFFSETFROM:+0200
TZOFFSETTO:+0100
TZNAME:CET
DTSTART:20211031T010000
END:STANDARD
END:VTIMEZONE
BEGIN:VEVENT
DTSTART;TZID=Europe/Madrid:20210415T173000
DTEND;TZID=Europe/Madrid:20210415T183000
DTSTAMP:20260423T132345
CREATED:20210406T115132Z
LAST-MODIFIED:20210406T115132Z
UID:63308-1618507800-1618511400@historico.ateneovalencia.es
SUMMARY:Ciclo Paseos virtuales por la historia y el arte de la ciudad de Valencia: Barrios del Oeste I
DESCRIPTION:Undécima sesión del nuevo ciclo que llega al Ateneo Mercantil de Valencia sobre "Paseos virtuales por la historia y el arte de la ciudad de Valencia". En esta conferencia se tratará el "Barrios del Oeste I" y de nuevo actuará de ponente D. Amando García\, que es catedrático de Física e Historiador del Arte. \nEnlace para la conferencia Online: https://zoom.us/j/98545407414\nUna conferencia on-line que será el próximo jueves 15 de abril a las 17.30 horas y en la que se focalizará en la historia y en el arte en los barrios del oeste de la ciudad de Valencia. Comenzará en 'Extramurs' recibe su nombre por comprender toda la zona que se encontraba fuera de las antiguas murallas de Valencia. Está formado por cuatro barrios: Botànic\, La Roqueta\, La Pechina y Arrancapins.... en la que se analizarán los principales monumentos y se contextualizará con la época. Destacan en estos barrios grandes fortificaciones como Las Torres de Quart o el Jardín Botànic de la Universitat de València. \nCartel:
URL:https://historico.ateneovalencia.es/evento/ciclo-paseos-virtuales-por-la-historia-y-el-arte-de-la-ciudad-de-valencia-barrios-del-oeste-i/
LOCATION:On line
CATEGORIES:Ciclo Paseos Virtuales por la Arquitectura de la Ciudad
ATTACH;FMTTYPE=image/jpeg:https://historico.ateneovalencia.es/wp-content/uploads/2021/04/20210415-Paseos-Virtuales-11-Barrios-Oeste-I.jpg
END:VEVENT
BEGIN:VEVENT
DTSTART;TZID=Europe/Madrid:20210429T173000
DTEND;TZID=Europe/Madrid:20210429T190000
DTSTAMP:20260423T132345
CREATED:20210406T121012Z
LAST-MODIFIED:20210607T142439Z
UID:63313-1619717400-1619722800@historico.ateneovalencia.es
SUMMARY:Ciclo Paseos virtuales por la historia y el arte de la ciudad de Valencia: Barrios del Oeste II
DESCRIPTION:Duodécima sesión del nuevo ciclo que llega al Ateneo Mercantil de Valencia sobre "Paseos virtuales por la historia y el arte de la ciudad de Valencia". En esta conferencia se tratarán los "Barrios del Oeste II" y de nuevo actuará de ponente D. Amando García\, que es catedrático de Física e Historiador del Arte. \nEnlace para la conferencia Online: https://zoom.us/j/97463481767\n\nUna conferencia on-line que será el próximo jueves 29 de abril a las 17.30 horas y en la que se focalizará en la historia y en el arte en los barrios del oeste de la ciudad de Valencia. Seguirá por los barrios de 'Jesús' y 'Patraix'. Jesús está formado por cuatro barrios: La Raiosa\, L´Hort de Senabre\, La Creu Coberta\, San Marcelíno y Cami Real\, mientras que Patraix lo forman: Patraix\, Sant Isidre\, Vara de Quart\, Safranar y Favara\, en la que se analizarán los principales monumentos y se contextualizará con la época. Destacan en estos barrios la Finca Roja de Valencia\, entre muchas otras edificaciones. \nCartel:
URL:https://historico.ateneovalencia.es/evento/ciclo-paseos-virtuales-por-la-historia-y-el-arte-de-la-ciudad-de-valencia-barrios-del-oeste-ii/
LOCATION:On line
CATEGORIES:Ciclo Paseos Virtuales por la Arquitectura de la Ciudad
ATTACH;FMTTYPE=image/jpeg:https://historico.ateneovalencia.es/wp-content/uploads/2021/04/20210429-Paseos-Virtuales-12-Barrios-del-Oeste-II.jpg
END:VEVENT
END:VCALENDAR