BEGIN:VCALENDAR
VERSION:2.0
PRODID:-//Ateneo Mercantil de Valencia - ECPv6.0.4//NONSGML v1.0//EN
CALSCALE:GREGORIAN
METHOD:PUBLISH
X-WR-CALNAME:Ateneo Mercantil de Valencia
X-ORIGINAL-URL:https://historico.ateneovalencia.es
X-WR-CALDESC:Eventos para Ateneo Mercantil de Valencia
REFRESH-INTERVAL;VALUE=DURATION:PT1H
X-Robots-Tag:noindex
X-PUBLISHED-TTL:PT1H
BEGIN:VTIMEZONE
TZID:Europe/Madrid
BEGIN:DAYLIGHT
TZOFFSETFROM:+0100
TZOFFSETTO:+0200
TZNAME:CEST
DTSTART:20210328T010000
END:DAYLIGHT
BEGIN:STANDARD
TZOFFSETFROM:+0200
TZOFFSETTO:+0100
TZNAME:CET
DTSTART:20211031T010000
END:STANDARD
END:VTIMEZONE
BEGIN:VEVENT
DTSTART;TZID=Europe/Madrid:20210921T173000
DTEND;TZID=Europe/Madrid:20210921T190000
DTSTAMP:20260423T045113
CREATED:20210630T113906Z
LAST-MODIFIED:20210727T120242Z
UID:64478-1632245400-1632250800@historico.ateneovalencia.es
SUMMARY:Ciclo Paseo por la Historia y el Arte de las Catedrales: "La Catedral de Valencia"
DESCRIPTION:Un nuevo ciclo llega al Ateneo Mercantil de Valencia de la mano del especialista en Historia del Arte\, D. Amando García\, bajo el nombre Ciclo Paseo por la Historia y el Arte de las Catedrales\, nos relatará con suma precisión las mejores catedrales españolas que han perdurado hasta nuestros días. La primera de ellas será "La Catedral de Valencia" y la conferencia será el próximo martes 21 de septiembre a las 17.30 horas en el Salón Stolz. \nEnlace para la Conferencia Online: https://zoom.us/j/95225366856\nConstruida sobre un antiguo templo romano que fue posteriormente mezquita\, en la Catedral de Valencia predomina el estilo gótico\, aunque conserva numerosos elementos de diferentes épocas\, desde el románico hasta el barroco. Los trabajos de la actual planta comenzaron en el siglo XIII. Cruz latina\, girola y cimborrio sobre el crucero. En el siglo XV se construyó la Sala Capitular\, (hoy Capilla del Santo Cáliz)\, el cimborrio\, el Miguelete y la puerta de los Apóstoles. Destacan también la puerta de los Hierros\, de estilo barroco\, y la del Palau o de la Almoina\, románica. \nSus muros y puertas protegen además tesoros tan valiosos como el Santo Cáliz. Otra de las joyas de la Catedral son los frescos renacentistas del Altar Mayor de la Catedral de Valencia\, obras de Paolo da San Leocadio y Francesco Pagano\, que fueron redescubiertos hace diez años al retirar la bóveda barroca que los cubría. También en la Catedral se encuentra el Museo Catedralicio\, que exhibe hasta 90 obras de diferentes estilos\, góticas\, renacentistas\, manieristas… Entre ellas destacan los lienzos de Maella y Goya o las pinturas sobre tabla de Juan de Juanes. \nCartel:\n \n 
URL:https://historico.ateneovalencia.es/evento/ciclo-paseo-por-la-historia-y-el-arte-de-las-catedrales-la-catedral-de-valencia/
LOCATION:Salón Stolz - Ateneo Mercantil de Valencia\, Plaza del Ayuntamiento\, 18\, Valencia\, España\, Valencia\, Valencia\, 46002\, España
CATEGORIES:Ciclo Paseo por la Historia y el Arte de la Catedrales
ATTACH;FMTTYPE=image/jpeg:https://historico.ateneovalencia.es/wp-content/uploads/2021/06/20210324-Educacion-Estética-Escuela-de-Filosofia.jpg
END:VEVENT
END:VCALENDAR