BEGIN:VCALENDAR
VERSION:2.0
PRODID:-//Ateneo Mercantil de Valencia - ECPv6.0.4//NONSGML v1.0//EN
CALSCALE:GREGORIAN
METHOD:PUBLISH
X-ORIGINAL-URL:https://historico.ateneovalencia.es
X-WR-CALDESC:Eventos para Ateneo Mercantil de Valencia
REFRESH-INTERVAL;VALUE=DURATION:PT1H
X-Robots-Tag:noindex
X-PUBLISHED-TTL:PT1H
BEGIN:VTIMEZONE
TZID:Europe/Madrid
BEGIN:DAYLIGHT
TZOFFSETFROM:+0100
TZOFFSETTO:+0200
TZNAME:CEST
DTSTART:20210328T010000
END:DAYLIGHT
BEGIN:STANDARD
TZOFFSETFROM:+0200
TZOFFSETTO:+0100
TZNAME:CET
DTSTART:20211031T010000
END:STANDARD
END:VTIMEZONE
BEGIN:VEVENT
DTSTART;TZID=Europe/Madrid:20210209T190000
DTEND;TZID=Europe/Madrid:20210209T203000
DTSTAMP:20260423T105952
CREATED:20210204T123155Z
LAST-MODIFIED:20210204T123414Z
UID:62025-1612897200-1612902600@historico.ateneovalencia.es
SUMMARY:Ciclo Órdenes Nobiliarias\, Dinásticas y Honoríficas: “Orden Nacional de la Legión de Honor”
DESCRIPTION:El próximo martes 9 de febrero a las 19 horas llega una nueva reunión del Ciclo Órdenes Nobiliarias\, Dinásticas y Honoríficas con la conferencia online "Orden Nacional de la Legión de Honor" que impartirá el profesor\, académico y humanista\, D. Juan Benito Rodríguez Manzanares. \nEnlace para la conferencia Online: https://zoom.us/j/98163908393\nLa Orden Nacional de la Legión de Honor es la más conocida e importante de las distinciones francesas. Fue establecida por el emperador Napoleón I de Francia en 1804. La orden se concede a hombres y mujeres\, ya sean franceses o extranjeros\, por méritos extraordinarios realizados dentro del ámbito civil o militar en ese país. Su lema es "Honor y Patria". La Legión de Honor está formada por caballeros\, oficiales\, comandantes\, grandes oficiales y grandes cruces17. Los grandes oficiales y las grandes cruces son dignatarios de la orden. Su rango corresponde a una dignidad y no a un grado. \nCartel:
URL:https://historico.ateneovalencia.es/evento/ciclo-ordenes-nobiliarias-dinasticas-y-honorificas-orden-nacional-de-la-legion-de-honor/
LOCATION:On line
CATEGORIES:Ciclo Órdenes Nobiliarias, Dinásticas y Honoríficas
ATTACH;FMTTYPE=image/jpeg:https://historico.ateneovalencia.es/wp-content/uploads/2021/02/20210209-Legion-de-Honor-Francia.jpg
END:VEVENT
END:VCALENDAR