BEGIN:VCALENDAR
VERSION:2.0
PRODID:-//Ateneo Mercantil de Valencia - ECPv6.0.4//NONSGML v1.0//EN
CALSCALE:GREGORIAN
METHOD:PUBLISH
X-ORIGINAL-URL:https://historico.ateneovalencia.es
X-WR-CALDESC:Eventos para Ateneo Mercantil de Valencia
REFRESH-INTERVAL;VALUE=DURATION:PT1H
X-Robots-Tag:noindex
X-PUBLISHED-TTL:PT1H
BEGIN:VTIMEZONE
TZID:Europe/Madrid
BEGIN:DAYLIGHT
TZOFFSETFROM:+0100
TZOFFSETTO:+0200
TZNAME:CEST
DTSTART:20210328T010000
END:DAYLIGHT
BEGIN:STANDARD
TZOFFSETFROM:+0200
TZOFFSETTO:+0100
TZNAME:CET
DTSTART:20211031T010000
END:STANDARD
END:VTIMEZONE
BEGIN:VEVENT
DTSTART;TZID=Europe/Madrid:20210114T190000
DTEND;TZID=Europe/Madrid:20210114T203000
DTSTAMP:20260423T094341
CREATED:20201210T171814Z
LAST-MODIFIED:20210111T112218Z
UID:61304-1610650800-1610656200@historico.ateneovalencia.es
SUMMARY:“Nobilísima Orden de la Jarretera”
DESCRIPTION:La segunda conferencia dentro del Ciclo Órdenes Nobiliarias\, Dinásticas y Honoríficas nos traerá la orden más impotante y antigua del Reino Unido como es la "Nobilísima Orden de la Jarreta". El ponente será el profesor\, académico y humanista\, D. Juan Benito Rodríguez Manzanares. \nEnlace para conferencia On line: https://zoom.us/j/92092564074\nLa Nobilísima Orden de la Jarretera fue fundada en 1348 por el rey Eduardo III\, inspirada por la leyenda de los caballeros de la mesa redonda. Es considerada el pináculo en el sistema de honores británico. \nLa admisión a la orden es muy limitada. El monarca y el príncipe de Gales son siempre miembros junto con 24 varones o mujeres. Los miembros masculinos son conocidos como los compañeros caballeros\, y los miembros femeninos son conocidos como las señoras compañeras. \nLa orden también incluye miembros supernumerarios o extras\, llamados caballeros y damas reales (miembros de la Familia Real británica) y caballeros y damas extranjeros (monarcas de Estados extranjeros). \nCartel:
URL:https://historico.ateneovalencia.es/evento/nobilisima-orden-de-la-jarretera/
LOCATION:Salón Stolz - Ateneo Mercantil de Valencia\, Plaza del Ayuntamiento\, 18\, Valencia\, España\, Valencia\, Valencia\, 46002\, España
CATEGORIES:Ciclo Órdenes Nobiliarias, Dinásticas y Honoríficas
ATTACH;FMTTYPE=image/jpeg:https://historico.ateneovalencia.es/wp-content/uploads/2020/12/20210114-Ordenes-Nobiliarias-1.jpg
END:VEVENT
END:VCALENDAR