BEGIN:VCALENDAR
VERSION:2.0
PRODID:-//Ateneo Mercantil de Valencia - ECPv6.0.4//NONSGML v1.0//EN
CALSCALE:GREGORIAN
METHOD:PUBLISH
X-ORIGINAL-URL:https://historico.ateneovalencia.es
X-WR-CALDESC:Eventos para Ateneo Mercantil de Valencia
REFRESH-INTERVAL;VALUE=DURATION:PT1H
X-Robots-Tag:noindex
X-PUBLISHED-TTL:PT1H
BEGIN:VTIMEZONE
TZID:Europe/Madrid
BEGIN:DAYLIGHT
TZOFFSETFROM:+0100
TZOFFSETTO:+0200
TZNAME:CEST
DTSTART:20200329T010000
END:DAYLIGHT
BEGIN:STANDARD
TZOFFSETFROM:+0200
TZOFFSETTO:+0100
TZNAME:CET
DTSTART:20201025T010000
END:STANDARD
END:VTIMEZONE
BEGIN:VEVENT
DTSTART;TZID=Europe/Madrid:20201209T190000
DTEND;TZID=Europe/Madrid:20201209T210000
DTSTAMP:20260423T060538
CREATED:20201209T114306Z
LAST-MODIFIED:20201209T114306Z
UID:61280-1607540400-1607547600@historico.ateneovalencia.es
SUMMARY:Ciclo Órdenes Nobiliarias: "Real y Militar Orden de San Fernando"
DESCRIPTION:Una vez acabado el anterior Ciclo de Órdenes Militares y Humanitarias\, llega ahora el Ciclo de Órdenes Nobiliarias y éste arranca con una conferencia sobre la "Real y Militar Orden de San Fernando". La ponencia será el próximo miércoles 9 de diciembre a las 19 horas en el Salón Stolz y será impartida por el profesor\, humanista y escritor\, D. Juan Benito Rodríguez Manzanares. \nLa Real y Militar Orden de San Fernando fue creada hace más de dos siglos en 1811\, se ha convertido en la primera y más prestigiosa condecoración militar española. La Laureada ha premiado desde su inicio\, sin distinción de clases\, el valor militar frente al enemigo en el campo de batalla en todos sus grados\, desde las acciones muy distinguidas a las heroicas. \nEs conocida popularmente como la Laureada de San Fernando\, ya que es la más preciada condecoración militar española. Tiene por objeto "honrar el reconocido valor heroico y el muy distinguido\, como virtudes que\, con abnegación\, inducen a acometer acciones excepcionales o extraordinarias\, individuales o colectivas\, siempre en servicio y beneficio de España". Es la máxima recompensa militar de España y tiene por objeto premiar el valor heroico. \nCartel:
URL:https://historico.ateneovalencia.es/evento/ciclo-ordenes-nobiliarias-real-y-militar-orden-de-san-fernando/
LOCATION:Salón Stolz - Ateneo Mercantil de Valencia\, Plaza del Ayuntamiento\, 18\, Valencia\, España\, Valencia\, Valencia\, 46002\, España
CATEGORIES:Ciclo Órdenes Nobiliarias, Dinásticas y Honoríficas
ATTACH;FMTTYPE=image/jpeg:https://historico.ateneovalencia.es/wp-content/uploads/2020/12/20201209-Orden-de-San-Fernando.jpg
END:VEVENT
END:VCALENDAR