BEGIN:VCALENDAR
VERSION:2.0
PRODID:-//Ateneo Mercantil de Valencia - ECPv6.0.4//NONSGML v1.0//EN
CALSCALE:GREGORIAN
METHOD:PUBLISH
X-ORIGINAL-URL:https://historico.ateneovalencia.es
X-WR-CALDESC:Eventos para Ateneo Mercantil de Valencia
REFRESH-INTERVAL;VALUE=DURATION:PT1H
X-Robots-Tag:noindex
X-PUBLISHED-TTL:PT1H
BEGIN:VTIMEZONE
TZID:Europe/Madrid
BEGIN:DAYLIGHT
TZOFFSETFROM:+0100
TZOFFSETTO:+0200
TZNAME:CEST
DTSTART:20200329T010000
END:DAYLIGHT
BEGIN:STANDARD
TZOFFSETFROM:+0200
TZOFFSETTO:+0100
TZNAME:CET
DTSTART:20201025T010000
END:STANDARD
END:VTIMEZONE
BEGIN:VEVENT
DTSTART;TZID=Europe/Madrid:20201103T190000
DTEND;TZID=Europe/Madrid:20201103T210000
DTSTAMP:20260424T112900
CREATED:20201008T095704Z
LAST-MODIFIED:20201014T164735Z
UID:60341-1604430000-1604437200@historico.ateneovalencia.es
SUMMARY:Ciclo Órdenes Militares\, de Caballería y Hospitalarias: "La Orden de Montesa"
DESCRIPTION:El próximo martes 3 de noviembre a las 19 horas llega al Salón Stolz del Ateneo Mercantil de Valencia la última de las conferencias del Ciclo Órdenes Militares\, de Caballería y Hospitalarias con la Orden de Santa María de Montesa y el ponente será D. Juan Benito Rodríguez Manzanares. \nLa Orden de Santa María de Montesa se fundó en 1317 gracias al rey Jaime II de Aragón\, y fue la heredera directa\, o la mayor heredera directa de los bienes de la Orden de los Templarios. \nLa Orden de Montesa fue la única orden puramente valenciana\, y es por ello que al gran poder que tuvo durante su vida como orden propiamente dicha\, se le debe unir la gloria de ser parte de nuestro patrimonio como valencianos. \nSu primer Maestre fue Guillermo de Eril\, y actualmente su Maestre es el rey de España don Felipe VI. \nCartel:
URL:https://historico.ateneovalencia.es/evento/ciclo-ordenes-militares-de-caballeria-y-hospitalarias-la-orden-de-montesa/
LOCATION:Salón Stolz - Ateneo Mercantil de Valencia\, Plaza del Ayuntamiento\, 18\, Valencia\, España\, Valencia\, Valencia\, 46002\, España
CATEGORIES:Ciclo Órdenes Militares, Caballería y Hospitalarias
ATTACH;FMTTYPE=image/jpeg:https://historico.ateneovalencia.es/wp-content/uploads/2020/10/20201103-Orden-de-Montesa.jpg
END:VEVENT
END:VCALENDAR