BEGIN:VCALENDAR
VERSION:2.0
PRODID:-//Ateneo Mercantil de Valencia - ECPv6.0.4//NONSGML v1.0//EN
CALSCALE:GREGORIAN
METHOD:PUBLISH
X-WR-CALNAME:Ateneo Mercantil de Valencia
X-ORIGINAL-URL:https://historico.ateneovalencia.es
X-WR-CALDESC:Eventos para Ateneo Mercantil de Valencia
REFRESH-INTERVAL;VALUE=DURATION:PT1H
X-Robots-Tag:noindex
X-PUBLISHED-TTL:PT1H
BEGIN:VTIMEZONE
TZID:Europe/Madrid
BEGIN:DAYLIGHT
TZOFFSETFROM:+0100
TZOFFSETTO:+0200
TZNAME:CEST
DTSTART:20200329T010000
END:DAYLIGHT
BEGIN:STANDARD
TZOFFSETFROM:+0200
TZOFFSETTO:+0100
TZNAME:CET
DTSTART:20201025T010000
END:STANDARD
END:VTIMEZONE
BEGIN:VEVENT
DTSTART;TZID=Europe/Madrid:20200107T190000
DTEND;TZID=Europe/Madrid:20200107T210000
DTSTAMP:20260423T201946
CREATED:20191210T172849Z
LAST-MODIFIED:20191210T182946Z
UID:54630-1578423600-1578430800@historico.ateneovalencia.es
SUMMARY:"La Real Orden de  Caballeros de Santa María de El Puig"
DESCRIPTION:El Ciclo de las Órdenes Militares y Hospitalarias regresa al Salón Sorolla con una conferencia sobre "La Real Orden de Caballeros de Santa María de El Puig". La ponencia será el próximo martes 7 de enero a las 19 horas y será impartida por el profesor\, humanista y escritor\, D. Juan Benito Rodríguez Manzanares. \nLa Real Orden de Caballeros de Santa María de El Puig es una orden relativamente reciente\, que recoge el testigo de los inicios de la orden de los mercedarios\, cuando esta era un orden militar que acompañaba al rey Jaime I\, llamado "el Conquistador". La orden de los mercedarios fue creada por Pedro Nolasco\, el cual se sigue considerando el fundador de la actual Real Orden de Caballeros de Santa María del Puig. Esta orden en la actualidad tiene un gran auge por todo lo que representó El Puig en la reconquista de Valencia. \nCartel:
URL:https://historico.ateneovalencia.es/evento/la-real-orden-de-caballeros-de-santa-maria-de-el-puig/
LOCATION:Salón Sorolla - Ateneo Mercantil de Valencia\, Plaza del Ayuntamiento 18\, Valencia\, Valencia\, 46002\, España
CATEGORIES:Ciclo Órdenes Militares, Caballería y Hospitalarias
ATTACH;FMTTYPE=image/jpeg:https://historico.ateneovalencia.es/wp-content/uploads/2019/12/20200108-Ciclo-Ordenes-Militares-Caballeros-El-Puig.jpg
END:VEVENT
END:VCALENDAR