BEGIN:VCALENDAR
VERSION:2.0
PRODID:-//Ateneo Mercantil de Valencia - ECPv6.0.4//NONSGML v1.0//EN
CALSCALE:GREGORIAN
METHOD:PUBLISH
X-WR-CALNAME:Ateneo Mercantil de Valencia
X-ORIGINAL-URL:https://historico.ateneovalencia.es
X-WR-CALDESC:Eventos para Ateneo Mercantil de Valencia
REFRESH-INTERVAL;VALUE=DURATION:PT1H
X-Robots-Tag:noindex
X-PUBLISHED-TTL:PT1H
BEGIN:VTIMEZONE
TZID:Europe/Madrid
BEGIN:DAYLIGHT
TZOFFSETFROM:+0100
TZOFFSETTO:+0200
TZNAME:CEST
DTSTART:20190331T010000
END:DAYLIGHT
BEGIN:STANDARD
TZOFFSETFROM:+0200
TZOFFSETTO:+0100
TZNAME:CET
DTSTART:20191027T010000
END:STANDARD
END:VTIMEZONE
BEGIN:VEVENT
DTSTART;TZID=Europe/Madrid:20191112T190000
DTEND;TZID=Europe/Madrid:20191112T210000
DTSTAMP:20260423T103952
CREATED:20191107T124804Z
LAST-MODIFIED:20191111T164630Z
UID:53861-1573585200-1573592400@historico.ateneovalencia.es
SUMMARY:Resumen de las Conferencias del Ciclo "Órdenes de Caballería\, Militares y Hospitalarias"
DESCRIPTION:El próximo martes 12 de noviembre a las 19 horas en el Salón Sorolla se presenta una nueva conferencia en la que se hará un resumen de las primeras seis primeras conferencias que D. Juan Benito Rodríguez Manzanares ha realizado en nuestra casa\, en el Ateneo Mercantil de Valencia\, que componen la primera parte del ciclo dedicado a las Órdenes de Caballería\, Militares y Hospitalarias\, que se viene realizando desde el pasado mes de octubre de 2018 hasta la acatualidad. Las primeras seis órdenes que se desarrollaron hasta el mes de abril de 2019. \nEstas seis primeras conferencias del ciclo fueron\, por orden de cómo fueron impartidas\, la Orden de Caballería del Santo Sepulcro de Jerusalén\, la Soberana Orden Militar y Hospitalaria de San Juan de Jerusalén de Rodas y de Malta\, la La Orden de los Pobres Caballeros de Cristo y del Templo de Salomón\, la Orden Militar y Hospitalaria de San Lázaro de Jerusalén\, la Imperial y Real Orden de San Esteban de Hungría\, y la Orden de Calatrava. \nCartel:
URL:https://historico.ateneovalencia.es/evento/presentacion-del-libro-ordenes-de-caballeria-militares-y-hospitalarias-tomo-1/
LOCATION:Salón Sorolla - Ateneo Mercantil de Valencia\, Plaza del Ayuntamiento 18\, Valencia\, Valencia\, 46002\, España
CATEGORIES:Ciclo Órdenes Militares, Caballería y Hospitalarias
ATTACH;FMTTYPE=image/jpeg:https://historico.ateneovalencia.es/wp-content/uploads/2019/11/20191112-Presentacion-Libro-Ordenes-Militares-Tomo-I.jpg
END:VEVENT
END:VCALENDAR