BEGIN:VCALENDAR
VERSION:2.0
PRODID:-//Ateneo Mercantil de Valencia - ECPv6.0.4//NONSGML v1.0//EN
CALSCALE:GREGORIAN
METHOD:PUBLISH
X-ORIGINAL-URL:https://historico.ateneovalencia.es
X-WR-CALDESC:Eventos para Ateneo Mercantil de Valencia
REFRESH-INTERVAL;VALUE=DURATION:PT1H
X-Robots-Tag:noindex
X-PUBLISHED-TTL:PT1H
BEGIN:VTIMEZONE
TZID:Europe/Madrid
BEGIN:DAYLIGHT
TZOFFSETFROM:+0100
TZOFFSETTO:+0200
TZNAME:CEST
DTSTART:20190331T010000
END:DAYLIGHT
BEGIN:STANDARD
TZOFFSETFROM:+0200
TZOFFSETTO:+0100
TZNAME:CET
DTSTART:20191027T010000
END:STANDARD
END:VTIMEZONE
BEGIN:VEVENT
DTSTART;TZID=Europe/Madrid:20191003T190000
DTEND;TZID=Europe/Madrid:20191003T210000
DTSTAMP:20260423T083827
CREATED:20190408T115619Z
LAST-MODIFIED:20190408T115619Z
UID:46629-1570129200-1570136400@historico.ateneovalencia.es
SUMMARY:Ciclo Órdenes Militares: La Orden de Santiago
DESCRIPTION:Tras las vacaciones de verano el Ciclo de las Órdenes Militares y Hospitalarias reanuda sus conferencias con la Orden de Santiago. La ponencia será el próximo jueves 3 de octubre a las 19 horas en el Salón Sorolla y será impartida por el profesor\, humanista y escritor\, D. Juan Benito Rodríguez Manzanares. La Orden de Santiago es una orden religiosa y militar surgida en el siglo XII en el Reino de León. Debe su nombre al patrón de España\, Santiago el Mayor. Su objetivo inicial era proteger a los peregrinos del Camino de Santiago y expulsar a los musulmanes de la península ibérica. \nLa orden tuvo su origen en la ciudad de Cáceres a partir de la anterior orden de los Fratres de Cáceres. Los Reyes Católicos incorporaron la Orden a la Corona de España y el papa Adriano VI unió para siempre el maestrazgo de Santiago a la corona en 1523. La Orden de Santiago\, junto con las de Calatrava\, Alcántara y Montesa\, fue reinstaurada como una asociación civil en el reinado de Juan Carlos I con el carácter de organización nobiliaria honorífica y religiosa\, y como tal permanece desde finales del siglo XX. \nCartel:
URL:https://historico.ateneovalencia.es/evento/ciclo-ordenes-militares-la-orden-de-santiago/
LOCATION:Salón Sorolla - Ateneo Mercantil de Valencia\, Plaza del Ayuntamiento 18\, Valencia\, Valencia\, 46002\, España
CATEGORIES:Ciclo Órdenes Militares, Caballería y Hospitalarias
ATTACH;FMTTYPE=image/jpeg:https://historico.ateneovalencia.es/wp-content/uploads/2019/04/20191003-Ordenes-Militares-Orden-Santiago.jpg
END:VEVENT
END:VCALENDAR