BEGIN:VCALENDAR
VERSION:2.0
PRODID:-//Ateneo Mercantil de Valencia - ECPv6.0.4//NONSGML v1.0//EN
CALSCALE:GREGORIAN
METHOD:PUBLISH
X-WR-CALNAME:Ateneo Mercantil de Valencia
X-ORIGINAL-URL:https://historico.ateneovalencia.es
X-WR-CALDESC:Eventos para Ateneo Mercantil de Valencia
REFRESH-INTERVAL;VALUE=DURATION:PT1H
X-Robots-Tag:noindex
X-PUBLISHED-TTL:PT1H
BEGIN:VTIMEZONE
TZID:Europe/Madrid
BEGIN:DAYLIGHT
TZOFFSETFROM:+0100
TZOFFSETTO:+0200
TZNAME:CEST
DTSTART:20190331T010000
END:DAYLIGHT
BEGIN:STANDARD
TZOFFSETFROM:+0200
TZOFFSETTO:+0100
TZNAME:CET
DTSTART:20191027T010000
END:STANDARD
END:VTIMEZONE
BEGIN:VEVENT
DTSTART;TZID=Europe/Madrid:20190404T190000
DTEND;TZID=Europe/Madrid:20190404T203000
DTSTAMP:20260423T070430
CREATED:20190211T120151Z
LAST-MODIFIED:20190211T120228Z
UID:42557-1554404400-1554409800@historico.ateneovalencia.es
SUMMARY:Ciclo Órdenes militares: La Orden de Calatrava
DESCRIPTION:La próxima conferencia del ciclo Órdenes Militares y Hospitalarias será sobre la Orden de Calatrava. El próximo 4 de abril a las 19 horas en el Salón Sorolla se celebrará una conferencia en la que D. Juan Benito Rodríguez Manzanares volverá a traer una nueva orden militar y religiosa. En esta ocasión llega la Orden de Calatarava que fue fundada en el Reino de Castilla en el siglo XII\, en el año 1158\, por el abad Raimundo de Fitero\, con el objetivo inicial de proteger la villa de Calatrava\, ubicada cerca de la actual Ciudad Real. Pertenece al grupo de las órdenes cistercienses y\, en la actualidad\, únicamente tiene carácter honorífico y nobiliario. \nCartel:
URL:https://historico.ateneovalencia.es/evento/ordenes-militares-la-orden-de-calatrava/
LOCATION:Salón Sorolla - Ateneo Mercantil de Valencia\, Plaza del Ayuntamiento 18\, Valencia\, Valencia\, 46002\, España
CATEGORIES:Ciclo Órdenes Militares, Caballería y Hospitalarias
ATTACH;FMTTYPE=image/jpeg:https://historico.ateneovalencia.es/wp-content/uploads/2019/02/20190404-Orden-de-Calatrava.jpg
END:VEVENT
END:VCALENDAR