BEGIN:VCALENDAR
VERSION:2.0
PRODID:-//Ateneo Mercantil de Valencia - ECPv6.0.4//NONSGML v1.0//EN
CALSCALE:GREGORIAN
METHOD:PUBLISH
X-ORIGINAL-URL:https://historico.ateneovalencia.es
X-WR-CALDESC:Eventos para Ateneo Mercantil de Valencia
REFRESH-INTERVAL;VALUE=DURATION:PT1H
X-Robots-Tag:noindex
X-PUBLISHED-TTL:PT1H
BEGIN:VTIMEZONE
TZID:Europe/Madrid
BEGIN:DAYLIGHT
TZOFFSETFROM:+0100
TZOFFSETTO:+0200
TZNAME:CEST
DTSTART:20190331T010000
END:DAYLIGHT
BEGIN:STANDARD
TZOFFSETFROM:+0200
TZOFFSETTO:+0100
TZNAME:CET
DTSTART:20191027T010000
END:STANDARD
END:VTIMEZONE
BEGIN:VEVENT
DTSTART;TZID=Europe/Madrid:20190207T190000
DTEND;TZID=Europe/Madrid:20190207T203000
DTSTAMP:20260423T083829
CREATED:20190107T104904Z
LAST-MODIFIED:20190107T114107Z
UID:41231-1549566000-1549571400@historico.ateneovalencia.es
SUMMARY:Ciclo Órdenes Militares: Imperial y Real Orden de San Esteban de Hungría
DESCRIPTION:La siguiente orden del Ciclo Órdenes Militares\, de Caballería y Hospitalarias que pasará por el Salón Sorolla del Ateneo Mercantil será la Imperial y Real orden de San Esteban de Hungría. De nuevo la ponencia correrá a cargo del profesor\, académico y humanista D. Juan Benito Rodríguez Manzanares. Recrodarles que es Gratuita y Abierta al público y que será el próximo jueves 7 de febrero. \nLa Imperial y Real Orden de San Esteban de Hungría fue fundada en 1764 por la emperatriz María Teresa de Austria con la intención de reconocer y honrar a la nobleza húngara de su Imperio. Para ingresar en la Orden era preciso probar nobleza por los cuatro costados. La Emperatiz promovío de esta manera su posición como Reina de Hungría y refuerzó la posición autónoma de Hungría en el Imperio. Los estatutos originales permitían sólo 20 Grandes Cruces\, 30 Comendadores y 50 Caballeros que han de ser "distinguidos por su virtud\, mérito y nobleza". \nLa insignia es una cruz verde esmaltada fileteada de oro. En su centro un medallón rojo esmaltado cargado con una cruz blanca patriarcal que sale de un montículo verde coronado; a ambos lados de la cruz las letras  M y T  en oro\, y todo ello rodeado por una corona circular blanca con la leyenda latina "Publicum meritorum Praemium". El conjunto se une a su cinta mediante una corona real húngara dorada. La cinta es de color verde con una franja central de color carmesí. \nCartel:
URL:https://historico.ateneovalencia.es/evento/ciclo-ordenes-militares-imperial-y-real-orden-de-san-esteban-de-hungria/
LOCATION:Salón Sorolla - Ateneo Mercantil de Valencia\, Plaza del Ayuntamiento 18\, Valencia\, Valencia\, 46002\, España
CATEGORIES:Ciclo Órdenes Militares, Caballería y Hospitalarias
ATTACH;FMTTYPE=image/jpeg:https://historico.ateneovalencia.es/wp-content/uploads/2019/01/20190207-Orden-Militar-San-Esteban.jpg
END:VEVENT
END:VCALENDAR