BEGIN:VCALENDAR
VERSION:2.0
PRODID:-//Ateneo Mercantil de Valencia - ECPv6.0.4//NONSGML v1.0//EN
CALSCALE:GREGORIAN
METHOD:PUBLISH
X-ORIGINAL-URL:https://historico.ateneovalencia.es
X-WR-CALDESC:Eventos para Ateneo Mercantil de Valencia
REFRESH-INTERVAL;VALUE=DURATION:PT1H
X-Robots-Tag:noindex
X-PUBLISHED-TTL:PT1H
BEGIN:VTIMEZONE
TZID:Europe/Madrid
BEGIN:DAYLIGHT
TZOFFSETFROM:+0100
TZOFFSETTO:+0200
TZNAME:CEST
DTSTART:20180325T010000
END:DAYLIGHT
BEGIN:STANDARD
TZOFFSETFROM:+0200
TZOFFSETTO:+0100
TZNAME:CET
DTSTART:20181028T010000
END:STANDARD
END:VTIMEZONE
BEGIN:VEVENT
DTSTART;TZID=Europe/Madrid:20181004T190000
DTEND;TZID=Europe/Madrid:20181004T203000
DTSTAMP:20260423T045109
CREATED:20180731T113844Z
LAST-MODIFIED:20180731T113856Z
UID:37844-1538679600-1538685000@historico.ateneovalencia.es
SUMMARY:Ciclo Órdenes Militares: "Órden de Caballería del Santo Sepulcro de Jerusalén"
DESCRIPTION:Un nuevo ciclo llega al Ateneo Mercantil tras la vacaciones estivales y traerá la historia de las grandes Órdenes Militares\, de Caballería y Hospitalarias que hay en nuestro país. En la primera sesión llega la Órden de Caballería del Santo Sepulcro de Jerusalén. Y correrá a cargo del profesor\, académico y humanista\, D. Juan Benito Rodríguez Manzanares el próximo jueves 4 de octubre en el Salón Sorolla. \nLa Orden de Caballería del Santo Sepulcro de Jerusalén es una orden de caballería católica que tiene sus orígenes en Godofredo de Bouillón\, principal líder de la Primera Cruzada. Comenzó como una confraternidad mixta clerical y laica de peregrinos\, que creció gradualmente alrededor de los Santos Lugares de la cristiandad en Oriente Medio: el Santo Sepulcro\, la tumba de Jesucristo. Su divisa es Deus lo vult (Dios lo quiere). Creada en 1098 por Godofredo de Bouillón\, duque de la Baja Lorena y Protector del Santo Sepulcro\, tras la victoriosa primera cruzada\, es reconocida como la Orden de Caballería más antigua del mundo. \nSu objetivo primordial fue proteger el Santo Sepulcro de los infieles con la ayuda de 50 esforzados caballeros. Balduino I de Jerusalén (hermano de Godofredo) la dotó oficialmente de su primer reglamento\, que sería imitado por las órdenes del Temple y el Hospital. Entre sus hechos más gloriosos\, la Orden luchó valerosamente junto al rey Balduino I de Jerusalén en 1123\, participó en los asedios de Tiro en 1124\, de Damasco (durante la Segunda Cruzada\, en 1148) y de San Juan de Acre en 1180. \n \n 
URL:https://historico.ateneovalencia.es/evento/ciclo-ordenes-militares-orden-de-caballeria-del-santo-sepulcro-de-jerusalen/
LOCATION:Salón Sorolla - Ateneo Mercantil de Valencia\, Plaza del Ayuntamiento 18\, Valencia\, Valencia\, 46002\, España
CATEGORIES:Ciclo Órdenes Militares, Caballería y Hospitalarias
ATTACH;FMTTYPE=image/jpeg:https://historico.ateneovalencia.es/wp-content/uploads/2018/07/20181004-Ordenes-Militares-Santo-Sepulcro-Jerusalen.jpg
END:VEVENT
END:VCALENDAR