BEGIN:VCALENDAR
VERSION:2.0
PRODID:-//Ateneo Mercantil de Valencia - ECPv6.0.4//NONSGML v1.0//EN
CALSCALE:GREGORIAN
METHOD:PUBLISH
X-WR-CALNAME:Ateneo Mercantil de Valencia
X-ORIGINAL-URL:https://historico.ateneovalencia.es
X-WR-CALDESC:Eventos para Ateneo Mercantil de Valencia
REFRESH-INTERVAL;VALUE=DURATION:PT1H
X-Robots-Tag:noindex
X-PUBLISHED-TTL:PT1H
BEGIN:VTIMEZONE
TZID:Europe/Madrid
BEGIN:DAYLIGHT
TZOFFSETFROM:+0100
TZOFFSETTO:+0200
TZNAME:CEST
DTSTART:20200329T010000
END:DAYLIGHT
BEGIN:STANDARD
TZOFFSETFROM:+0200
TZOFFSETTO:+0100
TZNAME:CET
DTSTART:20201025T010000
END:STANDARD
END:VTIMEZONE
BEGIN:VEVENT
DTSTART;TZID=Europe/Madrid:20201007T190000
DTEND;TZID=Europe/Madrid:20201007T210000
DTSTAMP:20260424T081519
CREATED:20200206T165404Z
LAST-MODIFIED:20201007T111013Z
UID:55883-1602097200-1602104400@historico.ateneovalencia.es
SUMMARY:Ciclo Órdenes Militares y Hospitalarias: "Orden de San Jorge de Alfama"
DESCRIPTION:El próximo miércoles 7 de octubre a las 19.00 horas llega al Salón Stolz una nueva edición del Ciclo Órdenes de Caballería\, Militares y Hospitalarias con la Orden de San Jorge de Alfama y que traerá una vez el ponente habitual\, el profesor\, académico y humanista\, D. Juan Benito Rodríguez Manzanares. \nLa Orden de San Jorge de Alfama\, fue una orden militar fundada en 1201 por el rey Pedro II de Aragón y cuyo título es un agradecimiento a su santo patrón\, que le habría dado protección en la guerra contra los sarracenos; posteriormente se fusionó con la Orden de Montesa. \nPedro II necesitaba fondos para mantener un ejército bien pertrechado y la fastuosidad de su corte\, pero estos dineros los obtenía de tributos que provocaban el descontento popular. Una de sus ideas fue ampliar sus dominios fuera de Aragón\, Cataluña y Occitania (aunque había cierta unión con su hermano Alfonso II de Provenza sobre todo al morir éste\, pues ejerció la tutoría de su sobrino y sus tierras) y deseaba arrebatar nuevas tierras a los musulmanes. Con ese fin en 1201 creó la Orden Militar\, cuyos caballeros le ayudaran en la empresa y\, a tal fin\, determinó fundar la Orden de San Jorge\, a la que se añadiría de Alfama por el señorío que le dio cerca de la villa. \nCartel:
URL:https://historico.ateneovalencia.es/evento/ciclo-ordenes-militares-y-hospitalarias-orden-de-san-jorge-de-alfama/
LOCATION:Salón Stolz - Ateneo Mercantil de Valencia\, Plaza del Ayuntamiento\, 18\, Valencia\, España\, Valencia\, Valencia\, 46002\, España
CATEGORIES:Ciclo Órdenes Militares, Caballería y Hospitalarias,covid
ATTACH;FMTTYPE=image/jpeg:https://historico.ateneovalencia.es/wp-content/uploads/2020/02/20200407-Ordenes-Militares-San-Jorge-Alfama-1.jpg
END:VEVENT
END:VCALENDAR