BEGIN:VCALENDAR
VERSION:2.0
PRODID:-//Ateneo Mercantil de Valencia - ECPv6.0.4//NONSGML v1.0//EN
CALSCALE:GREGORIAN
METHOD:PUBLISH
X-ORIGINAL-URL:https://historico.ateneovalencia.es
X-WR-CALDESC:Eventos para Ateneo Mercantil de Valencia
REFRESH-INTERVAL;VALUE=DURATION:PT1H
X-Robots-Tag:noindex
X-PUBLISHED-TTL:PT1H
BEGIN:VTIMEZONE
TZID:Europe/Madrid
BEGIN:DAYLIGHT
TZOFFSETFROM:+0100
TZOFFSETTO:+0200
TZNAME:CEST
DTSTART:20200329T010000
END:DAYLIGHT
BEGIN:STANDARD
TZOFFSETFROM:+0200
TZOFFSETTO:+0100
TZNAME:CET
DTSTART:20201025T010000
END:STANDARD
END:VTIMEZONE
BEGIN:VEVENT
DTSTART;TZID=Europe/Madrid:20200204T190000
DTEND;TZID=Europe/Madrid:20200204T203000
DTSTAMP:20260424T000111
CREATED:20200108T111817Z
LAST-MODIFIED:20200108T111817Z
UID:55225-1580842800-1580848200@historico.ateneovalencia.es
SUMMARY:Ciclo Órdenes Militares y Hospitalarias: "La Orden Teutónica"
DESCRIPTION:El próximo martes 4 de febrero regresa el Ciclo de Órdenes Militares\, Hospitalarias y de Caballería con una nueva orden\, que en este caso es "La Orden Teutónica" o "La Orden de los Caballeros Teutónicos del Hospital de Santa María de Jerusalén". Una conferencia que de nuevo dará el profesor\, académico y humanista\, D. Juan Benito Rodrigo Manzanares. Será a las 19 horas en el Salón Sorolla. \nOrden fundada por nobles alemanes en el año 1190\, en San Juan de Acre; seguía los preceptos y normativas de los caballeros templarios y de los hospitalarios\, las dos más conocidas órdenes de Caballería que luchaban por la cristiandad en Tierra Santa durante las Cruzadas. Establecidos en el castillo de Montfort durante casi 100 años abandonaron Tierra Santa\, definitivamente\, en el año 1291. \nHablar de la batalla de Tannenberg y del Castillo de Malbork nos conduce a los instantes más trágicos de la historia de la Orden de los Caballeros Teutónicos del Hospital de Santa María de Jerusalén\, auténtico nombre de los que se conocerían como Caballeros Teutones. \nCartel:\n \n 
URL:https://historico.ateneovalencia.es/evento/ciclo-ordenes-militares-y-hospitalarias-la-orden-teutonica/
LOCATION:Salón Sorolla - Ateneo Mercantil de Valencia\, Plaza del Ayuntamiento 18\, Valencia\, Valencia\, 46002\, España
CATEGORIES:Ciclo Órdenes Militares, Caballería y Hospitalarias
ATTACH;FMTTYPE=image/jpeg:https://historico.ateneovalencia.es/wp-content/uploads/2020/01/20200204-Orden-Teutonica.jpg
END:VEVENT
END:VCALENDAR