BEGIN:VCALENDAR
VERSION:2.0
PRODID:-//Ateneo Mercantil de Valencia - ECPv6.0.4//NONSGML v1.0//EN
CALSCALE:GREGORIAN
METHOD:PUBLISH
X-ORIGINAL-URL:https://historico.ateneovalencia.es
X-WR-CALDESC:Eventos para Ateneo Mercantil de Valencia
REFRESH-INTERVAL;VALUE=DURATION:PT1H
X-Robots-Tag:noindex
X-PUBLISHED-TTL:PT1H
BEGIN:VTIMEZONE
TZID:Europe/Madrid
BEGIN:DAYLIGHT
TZOFFSETFROM:+0100
TZOFFSETTO:+0200
TZNAME:CEST
DTSTART:20190331T010000
END:DAYLIGHT
BEGIN:STANDARD
TZOFFSETFROM:+0200
TZOFFSETTO:+0100
TZNAME:CET
DTSTART:20191027T010000
END:STANDARD
END:VTIMEZONE
BEGIN:VEVENT
DTSTART;TZID=Europe/Madrid:20190110T190000
DTEND;TZID=Europe/Madrid:20190110T203000
DTSTAMP:20260423T070526
CREATED:20181227T080158Z
LAST-MODIFIED:20181227T080512Z
UID:41094-1547146800-1547152200@historico.ateneovalencia.es
SUMMARY:Ciclo de Órdenes Militares: "Orden de San Lázaro de Jerusalén"
DESCRIPTION:El próximo jueves 10 de enero tendrá lugar una nueva conferencia del Ciclo de Órdenes Militares a las 19.00 horas en el Salón Sorolla. En esta ocasión el ponente D. Juan Benito Rodríguez Manzanares\, profesor\, académico y humanista\, traerá al Ateneo Mercantil la "Órden de San Lázaro de Jerusalén"\, que ha tenido la iniciación caballeresca y la caridad como rasgos distintivos a lo largo de los tiempos. La Orden Militar y Hospitalaria de San Lázaro de Jerusalén es una orden de caballería de carácter honorífico y data de 1098. Y es que es una de las instituciones caritativas que existían en Tierra Santa siglos antes de llevarse a efecto las Cruzadas y que cuidaban de la asistencia a los peregrinos que acudían a visitar los lugares testigos de la Pasión de Jesucristo. \nCartel:\n \n 
URL:https://historico.ateneovalencia.es/evento/ciclo-de-la-ordenes-militares-orden-de-san-lazaro-de-jerusalen/
LOCATION:Salón Sorolla - Ateneo Mercantil de Valencia\, Plaza del Ayuntamiento 18\, Valencia\, Valencia\, 46002\, España
CATEGORIES:Ciclo Órdenes Militares, Caballería y Hospitalarias
ATTACH;FMTTYPE=image/jpeg:https://historico.ateneovalencia.es/wp-content/uploads/2018/12/20190110-Orden-de-San-Lazaro.jpg
END:VEVENT
END:VCALENDAR