BEGIN:VCALENDAR
VERSION:2.0
PRODID:-//Ateneo Mercantil de Valencia - ECPv6.0.4//NONSGML v1.0//EN
CALSCALE:GREGORIAN
METHOD:PUBLISH
X-WR-CALNAME:Ateneo Mercantil de Valencia
X-ORIGINAL-URL:https://historico.ateneovalencia.es
X-WR-CALDESC:Eventos para Ateneo Mercantil de Valencia
REFRESH-INTERVAL;VALUE=DURATION:PT1H
X-Robots-Tag:noindex
X-PUBLISHED-TTL:PT1H
BEGIN:VTIMEZONE
TZID:Europe/Madrid
BEGIN:DAYLIGHT
TZOFFSETFROM:+0100
TZOFFSETTO:+0200
TZNAME:CEST
DTSTART:20220327T010000
END:DAYLIGHT
BEGIN:STANDARD
TZOFFSETFROM:+0200
TZOFFSETTO:+0100
TZNAME:CET
DTSTART:20221030T010000
END:STANDARD
END:VTIMEZONE
BEGIN:VEVENT
DTSTART;TZID=Europe/Madrid:20220217T190000
DTEND;TZID=Europe/Madrid:20220217T203000
DTSTAMP:20260426T030600
CREATED:20220214T183919Z
LAST-MODIFIED:20220215T110744Z
UID:67107-1645124400-1645129800@historico.ateneovalencia.es
SUMMARY:Ciclo Grandes Maravillas del Mundo: Machu Picchu
DESCRIPTION:El Ciclo de las Siete Grandes Maravillas del Mundo Moderno llega el próximo jueves 17 de febrero a las 19 horas en el Salón de Actos con una conferencia sobre el Machu Picchu. El ponente será el viajero Luis Tobajas\, que nos traerá todas las singularidades y el misterio de esta antigua ciudad inca\, uno de los tesoros más preciados de Perú. \nEnlace para la conferencia Online: https://youtu.be/QBgnybM-3AE\n\nEl Machu Picchu fue construida a mediados del siglo XV y se cree que fue una de las residencias del noveno inca del Tahuantinsuyo\, Pachacútec\, aunque en ella también están los restos de un santuario. Su nombre significa montaña vieja\, y hace alusión al lugar donde se ubica\, a unos 2453 metros\, en un premonitorio rocoso entre Machu Picchu y Huayna Picchu. Es frecuente que durante la subida los viajeros sientan el mal de altura. \nActualmente\, esta joya inca es uno de los focos turísticos del país. Los viajeros se acercan hasta Aguas Calientes para iniciar la ruta inca que Hiram Bingham\, el profesor de Yale\, popularizó a principios del siglo XX. El Santuario histórico de Machu Picchu está considerado como una de las siete nuevas maravillas del mundo moderno y ha sido declarado como patrimonio de la humanidad en 1983. \nCartel:
URL:https://historico.ateneovalencia.es/evento/ciclo-grandes-maravillas-del-mundo-machu-picchu/
LOCATION:Teatro Ateneo
CATEGORIES:Ciclo Las Siete Maravillas del Mundo Moderno
ATTACH;FMTTYPE=image/jpeg:https://historico.ateneovalencia.es/wp-content/uploads/2022/02/20220217-Machu-Picchu-1.jpg
END:VEVENT
END:VCALENDAR