BEGIN:VCALENDAR
VERSION:2.0
PRODID:-//Ateneo Mercantil de Valencia - ECPv6.0.4//NONSGML v1.0//EN
CALSCALE:GREGORIAN
METHOD:PUBLISH
X-WR-CALNAME:Ateneo Mercantil de Valencia
X-ORIGINAL-URL:https://historico.ateneovalencia.es
X-WR-CALDESC:Eventos para Ateneo Mercantil de Valencia
REFRESH-INTERVAL;VALUE=DURATION:PT1H
X-Robots-Tag:noindex
X-PUBLISHED-TTL:PT1H
BEGIN:VTIMEZONE
TZID:Europe/Madrid
BEGIN:DAYLIGHT
TZOFFSETFROM:+0100
TZOFFSETTO:+0200
TZNAME:CEST
DTSTART:20200329T010000
END:DAYLIGHT
BEGIN:STANDARD
TZOFFSETFROM:+0200
TZOFFSETTO:+0100
TZNAME:CET
DTSTART:20201025T010000
END:STANDARD
END:VTIMEZONE
BEGIN:VEVENT
DTSTART;TZID=Europe/Madrid:20201201T190000
DTEND;TZID=Europe/Madrid:20201201T203000
DTSTAMP:20260425T031831
CREATED:20201017T085036Z
LAST-MODIFIED:20201121T071003Z
UID:60454-1606849200-1606854600@historico.ateneovalencia.es
SUMMARY:Ciclo Las Siete Maravillas del Mundo Antiguo: "El Templo de Artemisa"
DESCRIPTION:El próximo martes 1 de diciembre a las 19 horas llega la segunda conferencia del Ciclo Las Siete Maravillas del Mundo Antiguo con "Los secretos del Templo de Artemisa" que nos traerá el viajero e investigador\, D. Luis Tobajas al Salón Stolz del Ateneo Mercantil. Una conferencia que se podrá seguir de manera online por Zoom. \nEnlace Conferencia Online: https://zoom.us/j/92596447984\n\nEl Templo de Artemisa o Artemisión debió ser un santuario descomunal. Al arquitecto cretense Quersifrón se le encargó el diseño\, y a Escopas\, adornarlo con esculturas. Pero ellos no fueron los únicos artífices del monumento. A lo largo de los 120 años  que duraron las obras se sucedieron varios genios más. \nLa estatua de Artemisa\, de dos metros de altura\, de madera y revestida de plata y oro\, se ubicó en un templete central a cielo abierto. El santuario se convirtió en un auténtico foco de atracción hasta que\, el 21 de julio de 356 a. C.\, Eróstrato le prendió fuego. \nCartel:\nóst \ntrat
URL:https://historico.ateneovalencia.es/evento/ciclo-las-siete-maravillas-del-mundo-antiguo-el-templo-de-artemisa/
LOCATION:Salón Stolz - Ateneo Mercantil de Valencia\, Plaza del Ayuntamiento\, 18\, Valencia\, España\, Valencia\, Valencia\, 46002\, España
CATEGORIES:Ciclo Las Siete Maravillas del Mundo Antiguo
ATTACH;FMTTYPE=image/jpeg:https://historico.ateneovalencia.es/wp-content/uploads/2020/10/20201201-Templo-de-Artemisa-scaled.jpg
END:VEVENT
END:VCALENDAR