BEGIN:VCALENDAR
VERSION:2.0
PRODID:-//Ateneo Mercantil de Valencia - ECPv6.0.4//NONSGML v1.0//EN
CALSCALE:GREGORIAN
METHOD:PUBLISH
X-WR-CALNAME:Ateneo Mercantil de Valencia
X-ORIGINAL-URL:https://historico.ateneovalencia.es
X-WR-CALDESC:Eventos para Ateneo Mercantil de Valencia
REFRESH-INTERVAL;VALUE=DURATION:PT1H
X-Robots-Tag:noindex
X-PUBLISHED-TTL:PT1H
BEGIN:VTIMEZONE
TZID:Europe/Madrid
BEGIN:DAYLIGHT
TZOFFSETFROM:+0100
TZOFFSETTO:+0200
TZNAME:CEST
DTSTART:20180325T010000
END:DAYLIGHT
BEGIN:STANDARD
TZOFFSETFROM:+0200
TZOFFSETTO:+0100
TZNAME:CET
DTSTART:20181028T010000
END:STANDARD
END:VTIMEZONE
BEGIN:VEVENT
DTSTART;TZID=Europe/Madrid:20180516T190000
DTEND;TZID=Europe/Madrid:20180516T203000
DTSTAMP:20260425T223818
CREATED:20180321T105236Z
LAST-MODIFIED:20180321T105236Z
UID:34319-1526497200-1526502600@historico.ateneovalencia.es
SUMMARY:Ciclo de Israel: "La Necrópolis Vaticana - La Tumba de San Pedro"
DESCRIPTION:La Necrópolis Vaticana o Scavi Vaticani es una de las visitas más fascinantes que se pueden realizar en Roma. Se encuentra en el subsuelo de la Basílica de San Pedro y da acceso al lugar donde fue enterrado el Apóstol. Por razones de conservación la entrada está muy restringida\, y hay que solicitarla con bastante antelación. Si no has podido visitarla\, el Doctor en Arquitectura y profesor titular de la Universidad Politécnica de Valencia\, D. Adolfo Alonso Durá\, regresa al Ateneo Mercantil para hablar de "La Necrópolis Vaticana y La Tumba de San Pedro" dentro del Ciclo de Isarel en el siglo I. Recuerda que la conferencia será en el Salón Sorolla a las 19.00 horas. \n 
URL:https://historico.ateneovalencia.es/evento/ciclo-de-israel-la-necropolis-vaticana-la-tumba-de-san-pedro/
LOCATION:Salón Sorolla - Ateneo Mercantil de Valencia\, Plaza del Ayuntamiento 18\, Valencia\, Valencia\, 46002\, España
CATEGORIES:Ciclo Israel en el Siglo I
ATTACH;FMTTYPE=image/jpeg:https://historico.ateneovalencia.es/wp-content/uploads/2018/03/20180516-Tumba-San-Pedro-Vaticano.jpg
END:VEVENT
END:VCALENDAR