BEGIN:VCALENDAR
VERSION:2.0
PRODID:-//Ateneo Mercantil de Valencia - ECPv6.0.4//NONSGML v1.0//EN
CALSCALE:GREGORIAN
METHOD:PUBLISH
X-ORIGINAL-URL:https://historico.ateneovalencia.es
X-WR-CALDESC:Eventos para Ateneo Mercantil de Valencia
REFRESH-INTERVAL;VALUE=DURATION:PT1H
X-Robots-Tag:noindex
X-PUBLISHED-TTL:PT1H
BEGIN:VTIMEZONE
TZID:Europe/Madrid
BEGIN:DAYLIGHT
TZOFFSETFROM:+0100
TZOFFSETTO:+0200
TZNAME:CEST
DTSTART:20240331T010000
END:DAYLIGHT
BEGIN:STANDARD
TZOFFSETFROM:+0200
TZOFFSETTO:+0100
TZNAME:CET
DTSTART:20241027T010000
END:STANDARD
END:VTIMEZONE
BEGIN:VEVENT
DTSTART;TZID=Europe/Madrid:20241003T190000
DTEND;TZID=Europe/Madrid:20241003T203000
DTSTAMP:20260424T114346
CREATED:20240909T120059Z
LAST-MODIFIED:20240923T113127Z
UID:81437-1727982000-1727987400@historico.ateneovalencia.es
SUMMARY:Ciclo Grandes Enigmas de la Humanidad: Misterios del Louvre
DESCRIPTION:Viajamos al Museo del Louvre para descubrir los enigmas que se esconden detrás de las obras de arte como nunca se ha contado antes. hablaremos de dos grandes obras de Leonardo da Vinci como la Gioconda  y la Virgen de las Rocas\, de la Victoria de Samotracia y también de todos los misterios que oculta el arte egipcio. \nEnlace para el Online: https://youtu.be/dXK0ChmqBZ8\nAdéntrate en esta conferencia en la que por último descubriremos todos los misterios de Napoleón. La pirámide diseñada por Ieoh Ming Pei continúa rodeada de teorías conspirativas\, que abarcan desde Bonaparte hasta los Illuminati. \nTítulo: Misterios del Louvre \nConferenciante: Luis Tobajas \nDía: Jueves\, 3 de octubre de 2024 \nHora: 19 horas \nLugar: Teatro Ateneo \nEntrada libre y gratuita. \nCartel:
URL:https://historico.ateneovalencia.es/evento/ciclo-grandes-enigmas-de-la-humanidad-misterios-del-louvre/
LOCATION:Teatro Ateneo
CATEGORIES:Ciclo Grandes Enigmas de la Humanidad
ATTACH;FMTTYPE=image/jpeg:https://historico.ateneovalencia.es/wp-content/uploads/2024/09/20241003-Misterios-del-Louvre.jpg
END:VEVENT
END:VCALENDAR