BEGIN:VCALENDAR
VERSION:2.0
PRODID:-//Ateneo Mercantil de Valencia - ECPv6.0.4//NONSGML v1.0//EN
CALSCALE:GREGORIAN
METHOD:PUBLISH
X-ORIGINAL-URL:https://historico.ateneovalencia.es
X-WR-CALDESC:Eventos para Ateneo Mercantil de Valencia
REFRESH-INTERVAL;VALUE=DURATION:PT1H
X-Robots-Tag:noindex
X-PUBLISHED-TTL:PT1H
BEGIN:VTIMEZONE
TZID:Europe/Madrid
BEGIN:DAYLIGHT
TZOFFSETFROM:+0100
TZOFFSETTO:+0200
TZNAME:CEST
DTSTART:20250330T010000
END:DAYLIGHT
BEGIN:STANDARD
TZOFFSETFROM:+0200
TZOFFSETTO:+0100
TZNAME:CET
DTSTART:20251026T010000
END:STANDARD
END:VTIMEZONE
BEGIN:VEVENT
DTSTART;TZID=Europe/Madrid:20250108T190000
DTEND;TZID=Europe/Madrid:20250108T203000
DTSTAMP:20260424T012642
CREATED:20250102T114042Z
LAST-MODIFIED:20250102T123350Z
UID:82585-1736362800-1736368200@historico.ateneovalencia.es
SUMMARY:"Misterios del Museo Británico" con Luis Tobajas
DESCRIPTION:El próximo miércoles 8 de enero de 2025\, a las 19 horas\, el Teatro Ateneo del Ateneo Mercantil de Valencia será el escenario de una fascinante conferencia titulada "Misterios del Museo Británico"\, impartida por el viajero y aventurero Luis Tobajas. \nEnlace para ver Online: https://youtu.be/cL2nQsC4nwA\nEn esta apasionante charla\, exploraremos los secretos y enigmas que se esconden tras los muros del Museo Británico de Londres\, una institución con 271 años de historia\, que guarda más de 7 millones de objetos que narran la evolución de la humanidad. Muchos de estos tesoros están rodeados de misterios y preguntas sin respuesta que han intrigado a historiadores\, arqueólogos y visitantes de todo el mundo. \nCon la experiencia y el estilo cautivador de Luis Tobajas\, descubriremos relatos sorprendentes\, curiosidades y enigmas que convierten al Museo Británico en uno de los lugares más fascinantes del planeta. \nDetalles del evento:\n📅 Fecha: Miércoles\, 8 de enero de 2025\n⏰ Hora: 19 horas\n📍 Lugar: Teatro Ateneo\, Ateneo Mercantil de Valencia\n🎟️ Entrada: Libre y gratuita hasta completar aforo \nNo pierdas la oportunidad de sumergirte en los misterios de una de las instituciones culturales más importantes del mundo. ¡Te esperamos! \nCartel:
URL:https://historico.ateneovalencia.es/evento/misterios-del-museo-britanico-con-luis-tobajas/
LOCATION:Teatro Ateneo
CATEGORIES:Ciclo Grandes Enigmas de la Humanidad
ATTACH;FMTTYPE=image/jpeg:https://historico.ateneovalencia.es/wp-content/uploads/2025/01/20250108-Tobajas-Museo-Britanico.jpg
END:VEVENT
BEGIN:VEVENT
DTSTART;TZID=Europe/Madrid:20250121T190000
DTEND;TZID=Europe/Madrid:20250121T203000
DTSTAMP:20260424T012642
CREATED:20240918T164134Z
LAST-MODIFIED:20250102T124445Z
UID:81545-1737486000-1737491400@historico.ateneovalencia.es
SUMMARY:Ciclo Grandes Enigmas de la Humanidad: "Área 51"
DESCRIPTION:Miguel Labrador\, un piloto comercial\, nos da a conocer su curiosa historia en el Área 51. El piloto turolense ofrece esta conferencia para mostrarnos los entresijos de su vivencia en Estados Unidos. \nEnlace para el Online: https://youtu.be/Eq1dBbi_8rg\nEn el Área 51\, vio junto a un compañero suyo una serie de luces que\, en el momento en el que sobrevolaban el área\, la base no estaba reconocida. Aquellas luces no se correspondían con nada\, pero está seguro de que lo que vieron era terrestre. Fueron tres avistamientos\, empezaron a ver el movimiento extraño y fuerte de varias luces y\, claramente\, era un objeto volador no identificado\, OVNI. \nA los pilotos les enseñan a pilotar\, a volar aviones\, pero no lo que hay en el cielo. Ambos se quedaron perplejos y se asustaron. Él cree que lo que vio era terrestre porque lo vio dentro del área\, al ser una base donde prueban los avances militares. Pero que esa tecnología avanzada salga de otros sitios... eso no lo sabe. \nDetalles del evento:\nTítulo: Área 51 \nConferenciante: Miguel Labrador\, piloto de avión y escritor. \nDía: Martes\, 21 de enero de 2025 \nHora: 19 horas \nLugar: Conferencia Online en directo en el Canal de Youtube del Ateneo. \nCartel:
URL:https://historico.ateneovalencia.es/evento/ciclo-grandes-enigmas-de-la-humanidad-area-51/
LOCATION:On line
CATEGORIES:Ciclo Grandes Enigmas de la Humanidad
ATTACH;FMTTYPE=image/jpeg:https://historico.ateneovalencia.es/wp-content/uploads/2024/09/20241203-Area-51-Miguel-Labrador.jpg
END:VEVENT
END:VCALENDAR