BEGIN:VCALENDAR
VERSION:2.0
PRODID:-//Ateneo Mercantil de Valencia - ECPv6.0.4//NONSGML v1.0//EN
CALSCALE:GREGORIAN
METHOD:PUBLISH
X-WR-CALNAME:Ateneo Mercantil de Valencia
X-ORIGINAL-URL:https://historico.ateneovalencia.es
X-WR-CALDESC:Eventos para Ateneo Mercantil de Valencia
REFRESH-INTERVAL;VALUE=DURATION:PT1H
X-Robots-Tag:noindex
X-PUBLISHED-TTL:PT1H
BEGIN:VTIMEZONE
TZID:Europe/Madrid
BEGIN:DAYLIGHT
TZOFFSETFROM:+0100
TZOFFSETTO:+0200
TZNAME:CEST
DTSTART:20240331T010000
END:DAYLIGHT
BEGIN:STANDARD
TZOFFSETFROM:+0200
TZOFFSETTO:+0100
TZNAME:CET
DTSTART:20241027T010000
END:STANDARD
END:VTIMEZONE
BEGIN:VEVENT
DTSTART;TZID=Europe/Madrid:20240205T190000
DTEND;TZID=Europe/Madrid:20240205T203000
DTSTAMP:20260425T180122
CREATED:20240103T120715Z
LAST-MODIFIED:20240124T130948Z
UID:76250-1707159600-1707165000@historico.ateneovalencia.es
SUMMARY:Brujas y Hechiceras\, el legado de una sabiduría ancestral
DESCRIPTION:En la conferencia se realizará un exhaustivo recorrido histórico por el mundo de la brujería\, desde los aquelarres\, los pactos diabólicos\, los utensilios brujeriles\, las hierbas sanadoras y protectoras\, la caza y persecución de las brujas\, libros malditos y mucho más. \nEnlace para el Online: https://youtu.be/hV1Dk7UJ_Mg\nUna visión objetiva y real de la brujería\, saber quién es casa cual\, y el lugar que ocupan en la historia de la Humanidad. Un homenaje  a las mujeres sabias\, honestas\, herbolarias que utilizaron sus conocimientos para sanar y curar enfermedades\, y cuyo legado debemos hacer perdurar para nuestros descendientes. \nTítulo: Brujas y Hechiceras\, el legado de una sabiduría ancestral \nConferenciante: Raúl Ferrero Martínez \nDía: Lunes 5 de febrero de 2024 \nHora: 19 horas \nLugar: Teatro Ateneo (3ª planta) \nEntrada libre y gratuita hasta completar aforo \nCurrículum abreviado de Raúl Ferrero:\nRaúl Ferrero Martínez (Ontinyent 1975). Actualmente vive en Valencia. Licenciado en Derecho por la Universidad de Valencia y titulado como corredor de seguros\, compagina su trabajo con la afición por el mundo del misterio\, el folklore popular y la España mágica. \nEs autor del libro "Brujas\, sabias y malditas"\, ensayo histórico que aborda el mundo de la brujería\, editado por Guante Blanco en abril de 2021\, y del libro "Autómatas y Cabezas parlantes"\, publicado por Almuzara en octubre de 2023. Publica en diferentes medios de comunicación y prensa escrita especializados en la divulgación del misterio y colabora habitualmente en el programa podcast "El Candelabro". Junto a Ángel Beitia\, es coautor del libro Oficios mágicos y ocultos\, también publicado por Almuzara. \nCartel:
URL:https://historico.ateneovalencia.es/evento/brujas-y-hechiceras-el-legado-de-una-sabiduria-ancestral/
LOCATION:Teatro Ateneo
CATEGORIES:Ciclo Grandes Enigmas de la Humanidad
ATTACH;FMTTYPE=image/jpeg:https://historico.ateneovalencia.es/wp-content/uploads/2024/01/20240228-Brujas-y-Hechiceras-Raul-Ferrero.jpg
END:VEVENT
BEGIN:VEVENT
DTSTART;TZID=Europe/Madrid:20240206T190000
DTEND;TZID=Europe/Madrid:20240206T203000
DTSTAMP:20260425T180122
CREATED:20231117T102730Z
LAST-MODIFIED:20240124T132604Z
UID:75943-1707246000-1707251400@historico.ateneovalencia.es
SUMMARY:Ciclo Grandes Enigmas de la Humanidad: La tumba de Alejandro Magno
DESCRIPTION:Dar con la tumba de Alejandro Magno es uno de los grandes retos de la Arqueología\, es más\, es una obsesión de los arqueólogos modernos. Todos los esfuerzos parecen que han sido en vano porque todavía no se ha encontrado ni el cuerpo del propio emperador macedonio ni tampoco la tumba en sí. Lo que sí se conoce es dónde estaba\, cuándo se perdió su rastro y las teorías que existen en la actualidad sobre su posible paradero. \nEnlace la para el Online: https://youtu.be/L0WuI59KN0g\nLo que sí conocemos es que Alejandro Magno murió en Babilonia en el año 323 a.C y que se quiso repatriar su cuerpo a su Macedonia natal. Su lujoso sarcófago bajo un palio bordado de púrpura y tirado por más de 60 mulas comenzó a recorrer los más de 1500 kilómetros que existían entre ambos lugares\, pero éste nunca llegó a su destino. El imperio alejandrino sufría un conflicto abierto entre los sucesores de Alejandro Magno y eso pudo provocar que Ptolomeo trasladara el cuerpo del emperador a Saqqara\, luego Ptolomeo II lo trasladaría a Alejandría hasta el siglo IV. \nExisten varias teorías sobre su paradero: \n\nLas más creíble es la de la arqueóloga Calliope Limneos-Papakosta\, que dirige una excavación en el centro de Alejandría\, en lo que en su momento fue el barrio real. Ella cree que está allí.\nOtra teoría es la del británico Andrew Chugg\, quien piensa que está en Venecia y sugiere que los supuestos restos de San Marcos son\, en realidad\, los del emperador macedonio. Llegaron en el siglo IX.\nOtros lugares en los que se ha buscado su tumba han sido en la mezquita Nabi Daniel y el cementerio latino de Alejandría\, en el oasis de Siwa y en la antigua ciudad de Anfípolis (Macedonia).\n\nTítulo: La tumba de Alejandro Magno \nConferenciante: Alejandro Noguera Borel \nDía: Martes 6 de febrero de 2024 \nHora: 19 horas \nLugar: Teatro Ateneo \nEntrada libre y gratuita hasta completar aforo. \nBreve currículum de Alejandro Noguera:\nAlejandro Noguera es un destacado historiador antiguo y arqueólogo con una amplia formación académica en varias disciplinas. Obtuvo licenciaturas en Historia Antigua y Arqueología Clásica y Oriental de prestigiosas instituciones académicas como la Université de Paris IV – Sorbonne y l’École Pratique des Hautes Études de Paris\, así como diplomados en Lenguas Clásicas y Orientales de la Sorbonne y el Collège de France. También cuenta con un Máster en Museología de la Universidad Complutense y un Doctorado en Historia Antigua de la Universidad de Valencia. \nAdemás de su destacada carrera académica\, Alejandro Noguera ha sido profesor en diversas universidades y centros educativos\, incluyendo la Universitat de València\, la Universitat Politècnica de València\, la Universidad Cardenal Herrera-CEU San Pablo\, la Universidad de Atenas y la propia Fundación Libertas 7. Es conferenciante en diversas Instituciones. \nTambién es un conferenciante destacado y ha escrito\, editado\, traducido y corregido numerosos libros y artículos académicos y de divulgación en varios idiomas\, incluyendo español\, francés\, inglés\, italiano y valenciano. Actualmente colabora con diversos medios de comunicación. \nAlejandro Noguera también ha tenido un impacto significativo en el mundo de los negocios\, como consejero de varias empresas de tecnología y miembro de varias comisiones y consejos directivos como la Fundación Cañada Blanch\, o Acción Cívica contra la corrupción\, ha sido ex-vicepresidente de UNESCO Valencia y colabora con numerosas instituciones culturales\, ONGs y ONLs culturales y sociales. \nAdemás\, ha recibido varios premios por su trabajo en el mundo cultural y ha sido reconocido por su labor en la sociedad civil y como cónsul honorario de Francia en Valencia y Castellón. También dirige la Fundación Libertas 7\, L’Iber\, Museo de los Soldaditos de Plomo y el Instituto Valenciano de Estudios Clásicos y Orientales. \nCartel:
URL:https://historico.ateneovalencia.es/evento/ciclo-grandes-enigmas-de-la-humanidad-la-tumba-de-alejandro-magno/
LOCATION:Teatro Ateneo
CATEGORIES:Ciclo Grandes Enigmas de la Humanidad
ATTACH;FMTTYPE=image/jpeg:https://historico.ateneovalencia.es/wp-content/uploads/2023/11/20240207-La-tumba-de-Alejandro-Magno.jpg
END:VEVENT
BEGIN:VEVENT
DTSTART;TZID=Europe/Madrid:20240227T190000
DTEND;TZID=Europe/Madrid:20240227T203000
DTSTAMP:20260425T180122
CREATED:20240221T170429Z
LAST-MODIFIED:20240222T090254Z
UID:76888-1709060400-1709065800@historico.ateneovalencia.es
SUMMARY:Ciclo Grandes Enigmas de la Humanidad: Los secretos mejor guardados de la KGB
DESCRIPTION:¿Le gustaría saber cómo se ha creado la KGB\, y sobre todo\, su estrecha relación con la investigación de los fenómenos anómalos? ¡Ha llegado el momento! En esta conferencia nos acercará a la historia de la KGB y su incesante búsqueda en poder profundizar en el conocimiento místico y los reales poderes del ser humano. \nPara seguirla Online: https://youtu.be/Ng1jM4gmFAs\nSe darán a conocer los nombres y el funcionamiento de las sociedades secretas del país bolchevique: masónicas\, martinistas\, de caballeros templarios\, teosóficas y vampírica. A parte de la descripción de las funciones y actividades del Departamento Especial de la KGB el espectador puede descubrir las investigaciones realizadas por el gobierno soviético en diferentes campos de ciencias ocultas. \nTítulo: Los secretos mejor guardados de la KGB \nConferenciante: Mercedes Pullman.  \nDía: Martes\, 27 de febrero de 2024 \nHora: 19 horas \nLugar: Conferencia Online - Canal de YouTube \nCurrículum abreviado de Mercedes Pullman:\nNació en un lejano y ya no existente país que se llamaba La Unión Soviética. Es la nieta de los españoles que se exiliaron durante la Guerra Civil española a la URSS. Su abuelo era el hermano pequeño de Vicente Uribe\, Ministro de Agricultura durante la Republica quien en el año 1938\, le ayudó a emigrar al país soviético por ser acusado por el TRIBUNAL ESPECIAL\, PARA LA REPRESIÓN DE LA MASONERÍA Y EL COMUNISMO. \nEn la URSS conoció a su abuela que era de Santander. De esta unión nació su madre en 1941 que nunca pudo conocer a su padre porque estaba en la frente\, combatiendo contra los alemanes como piloto en los Regimientos 3º IAP de la 36 IAD División de Caza y 101 IAP. El 15 de diciembre de 1943 falleció en combate aéreo sobre el río Dniéper\, en Trostenka\, Ucrania. Esta condecorado con la Orden de la Estrella Roja y Orden de la Guerra Patria. \nEn la URSS se licenció en la Filología Rusa. Vivió en un país lleno de prohibiciones pero esto no le impedía leer los libros vedados o ver películas extranjeras. Siempre le ha llamado la atención la historia y el funcionamiento del Comité para la Seguridad del Estado (KGB). Los tiempos iban cambiando\, la Unión Soviética se desvanecía y decidió emigrar a España junto con sus abuelos y dos tías. Ya en España se graduó en Trabajo Social y se licenció en Antropología Social y Cultural por la UNED. \nEl Grado de Trabajo Social le ayudó a encontrar el trabajo donde puede ayudar a la gente y la Antropología se convirtió en su verdadera pasión. Actualmente es Vicepresidente de la Sociedad Española de Antropología y Tradiciones Populares. Directora de la revista digital "Antropología y Tradiciones populares" y el programa de radio "Encuentros cercanos con Mercedes Pullman". \nCartel:\n\n 
URL:https://historico.ateneovalencia.es/evento/ciclo-grandes-enigmas-de-la-humanidad-los-secretos-mejor-guardados-de-la-kgb/
LOCATION:On line
CATEGORIES:Ciclo Grandes Enigmas de la Humanidad
ATTACH;FMTTYPE=image/jpeg:https://historico.ateneovalencia.es/wp-content/uploads/2024/02/20240227-KGB-Mercedes-Pullman.jpg
END:VEVENT
END:VCALENDAR